BEGIN:VCALENDAR
VERSION:2.0
PRODID:-//BELLPORT-BROOKHAVEN HISTORICAL MUSEUM - ECPv6.15.20//NONSGML v1.0//EN
CALSCALE:GREGORIAN
METHOD:PUBLISH
X-WR-CALNAME:BELLPORT-BROOKHAVEN HISTORICAL MUSEUM
X-ORIGINAL-URL:https://www.bbhsmuseum.com
X-WR-CALDESC:Events for BELLPORT-BROOKHAVEN HISTORICAL MUSEUM
REFRESH-INTERVAL;VALUE=DURATION:PT1H
X-Robots-Tag:noindex
X-PUBLISHED-TTL:PT1H
BEGIN:VTIMEZONE
TZID:America/New_York
BEGIN:DAYLIGHT
TZOFFSETFROM:-0500
TZOFFSETTO:-0400
TZNAME:EDT
DTSTART:20230312T070000
END:DAYLIGHT
BEGIN:STANDARD
TZOFFSETFROM:-0400
TZOFFSETTO:-0500
TZNAME:EST
DTSTART:20231105T060000
END:STANDARD
BEGIN:DAYLIGHT
TZOFFSETFROM:-0500
TZOFFSETTO:-0400
TZNAME:EDT
DTSTART:20240310T070000
END:DAYLIGHT
BEGIN:STANDARD
TZOFFSETFROM:-0400
TZOFFSETTO:-0500
TZNAME:EST
DTSTART:20241103T060000
END:STANDARD
BEGIN:DAYLIGHT
TZOFFSETFROM:-0500
TZOFFSETTO:-0400
TZNAME:EDT
DTSTART:20250309T070000
END:DAYLIGHT
BEGIN:STANDARD
TZOFFSETFROM:-0400
TZOFFSETTO:-0500
TZNAME:EST
DTSTART:20251102T060000
END:STANDARD
END:VTIMEZONE
BEGIN:VEVENT
DTSTART;TZID=America/New_York:20240623T100000
DTEND;TZID=America/New_York:20240623T110000
DTSTAMP:20260423T115606
CREATED:20240622T143956Z
LAST-MODIFIED:20240622T144128Z
UID:10000626-1719136800-1719140400@www.bbhsmuseum.com
SUMMARY:Children's Program - BUTTER-MAKING WORKSHOP & DANCE PARTY
DESCRIPTION:Registration limited\, RSVP childrensprogramdirector@bbhsmuseum.com
URL:https://www.bbhsmuseum.com/event/childrens-program-butter-making-workshop-dance-party/
LOCATION:The Milk House\, 31 Bellport Lane\, Bellport\, United States
ATTACH;FMTTYPE=image/png:https://www.bbhsmuseum.com/wp-content/uploads/2024/06/e556ed09-cf34-2ada-3366-bd8c3afda852.png
ORGANIZER;CN="Bellport Brookhaven Historical Society":MAILTO:bbhsmuseumrsvp@gmail.com
END:VEVENT
END:VCALENDAR