BEGIN:VCALENDAR
VERSION:2.0
PRODID:-//BELLPORT-BROOKHAVEN HISTORICAL MUSEUM - ECPv6.15.20//NONSGML v1.0//EN
CALSCALE:GREGORIAN
METHOD:PUBLISH
X-WR-CALNAME:BELLPORT-BROOKHAVEN HISTORICAL MUSEUM
X-ORIGINAL-URL:https://www.bbhsmuseum.com
X-WR-CALDESC:Events for BELLPORT-BROOKHAVEN HISTORICAL MUSEUM
REFRESH-INTERVAL;VALUE=DURATION:PT1H
X-Robots-Tag:noindex
X-PUBLISHED-TTL:PT1H
BEGIN:VTIMEZONE
TZID:America/New_York
BEGIN:DAYLIGHT
TZOFFSETFROM:-0500
TZOFFSETTO:-0400
TZNAME:EDT
DTSTART:20220313T070000
END:DAYLIGHT
BEGIN:STANDARD
TZOFFSETFROM:-0400
TZOFFSETTO:-0500
TZNAME:EST
DTSTART:20221106T060000
END:STANDARD
BEGIN:DAYLIGHT
TZOFFSETFROM:-0500
TZOFFSETTO:-0400
TZNAME:EDT
DTSTART:20230312T070000
END:DAYLIGHT
BEGIN:STANDARD
TZOFFSETFROM:-0400
TZOFFSETTO:-0500
TZNAME:EST
DTSTART:20231105T060000
END:STANDARD
BEGIN:DAYLIGHT
TZOFFSETFROM:-0500
TZOFFSETTO:-0400
TZNAME:EDT
DTSTART:20240310T070000
END:DAYLIGHT
BEGIN:STANDARD
TZOFFSETFROM:-0400
TZOFFSETTO:-0500
TZNAME:EST
DTSTART:20241103T060000
END:STANDARD
BEGIN:DAYLIGHT
TZOFFSETFROM:-0500
TZOFFSETTO:-0400
TZNAME:EDT
DTSTART:20250309T070000
END:DAYLIGHT
BEGIN:STANDARD
TZOFFSETFROM:-0400
TZOFFSETTO:-0500
TZNAME:EST
DTSTART:20251102T060000
END:STANDARD
BEGIN:DAYLIGHT
TZOFFSETFROM:-0500
TZOFFSETTO:-0400
TZNAME:EDT
DTSTART:20260308T070000
END:DAYLIGHT
BEGIN:STANDARD
TZOFFSETFROM:-0400
TZOFFSETTO:-0500
TZNAME:EST
DTSTART:20261101T060000
END:STANDARD
END:VTIMEZONE
BEGIN:VEVENT
DTSTART;TZID=America/New_York:20250118T103000
DTEND;TZID=America/New_York:20250118T113000
DTSTAMP:20260423T105758
CREATED:20250109T064944Z
LAST-MODIFIED:20250109T064944Z
UID:10000703-1737196200-1737199800@www.bbhsmuseum.com
SUMMARY:Children's Program - Scavenger Hunt
DESCRIPTION:  \nClick here to RSVP
URL:https://www.bbhsmuseum.com/event/childrens-program-scavenger-hunt/
LOCATION:The Barn Museum\, 31 Bellport Lane\, Bellport\, NY\, 11713\, United States
CATEGORIES:Children's Program
ATTACH;FMTTYPE=image/png:https://www.bbhsmuseum.com/wp-content/uploads/2025/01/Scavenger_Hunt_Jan_2025.png
ORGANIZER;CN="Bellport Brookhaven Historical Society":MAILTO:bbhsmuseumrsvp@gmail.com
END:VEVENT
BEGIN:VEVENT
DTSTART;TZID=America/New_York:20240928T160000
DTEND;TZID=America/New_York:20240928T190000
DTSTAMP:20260423T105758
CREATED:20240910T003352Z
LAST-MODIFIED:20240929T150947Z
UID:10000692-1727539200-1727550000@www.bbhsmuseum.com
SUMMARY:Harvest Moon Dinner
DESCRIPTION:
URL:https://www.bbhsmuseum.com/event/harvest-moon-dinner/
LOCATION:The Barn Museum\, 31 Bellport Lane\, Bellport\, NY\, 11713\, United States
ATTACH;FMTTYPE=image/jpeg:https://www.bbhsmuseum.com/wp-content/uploads/2024/09/Harvest-Moon-Dinner-1.jpg
ORGANIZER;CN="Bellport Brookhaven Historical Society":MAILTO:bbhsmuseumrsvp@gmail.com
END:VEVENT
BEGIN:VEVENT
DTSTART;TZID=America/New_York:20240127T100000
DTEND;TZID=America/New_York:20240127T110000
DTSTAMP:20260423T105758
CREATED:20240111T162749Z
LAST-MODIFIED:20240116T190938Z
UID:10000078-1706349600-1706353200@www.bbhsmuseum.com
SUMMARY:Children's Program - Saturday At The Museum
DESCRIPTION:
URL:https://www.bbhsmuseum.com/event/saturday-at-the-museum/
LOCATION:The Barn Museum\, 31 Bellport Lane\, Bellport\, NY\, 11713\, United States
CATEGORIES:Children's Program
ATTACH;FMTTYPE=image/png:https://www.bbhsmuseum.com/wp-content/uploads/2024/01/Screenshot-2024-01-11-at-11.24.23 AM.png
ORGANIZER;CN="Bellport Brookhaven Historical Society":MAILTO:bbhsmuseumrsvp@gmail.com
END:VEVENT
BEGIN:VEVENT
DTSTART;TZID=America/New_York:20231118T110000
DTEND;TZID=America/New_York:20231118T130000
DTSTAMP:20260423T105758
CREATED:20231025T010519Z
LAST-MODIFIED:20231025T010519Z
UID:10000070-1700305200-1700312400@www.bbhsmuseum.com
SUMMARY:Food Drive 2023
DESCRIPTION:
URL:https://www.bbhsmuseum.com/event/food-drive-2023/
LOCATION:The Barn Museum\, 31 Bellport Lane\, Bellport\, NY\, 11713\, United States
END:VEVENT
BEGIN:VEVENT
DTSTART;TZID=America/New_York:20231028T120000
DTEND;TZID=America/New_York:20231028T140000
DTSTAMP:20260423T105758
CREATED:20230922T022731Z
LAST-MODIFIED:20230922T023042Z
UID:10000067-1698494400-1698501600@www.bbhsmuseum.com
SUMMARY:Pumpkin Fest
DESCRIPTION:
URL:https://www.bbhsmuseum.com/event/pumpkin-fest/
LOCATION:The Barn Museum\, 31 Bellport Lane\, Bellport\, NY\, 11713\, United States
END:VEVENT
BEGIN:VEVENT
DTSTART;TZID=America/New_York:20230819T090000
DTEND;TZID=America/New_York:20230819T110000
DTSTAMP:20260423T105758
CREATED:20230725T190946Z
LAST-MODIFIED:20230814T153430Z
UID:10000063-1692435600-1692442800@www.bbhsmuseum.com
SUMMARY:Bellport-Brookhaven Historical Society Family Day!
DESCRIPTION:
URL:https://www.bbhsmuseum.com/event/bellport-brookhaven-historical-society-family-day/
LOCATION:The Barn Museum\, 31 Bellport Lane\, Bellport\, NY\, 11713\, United States
END:VEVENT
BEGIN:VEVENT
DTSTART;TZID=America/New_York:20230715T190000
DTEND;TZID=America/New_York:20230715T210000
DTSTAMP:20260423T105758
CREATED:20230503T032622Z
LAST-MODIFIED:20230530T010611Z
UID:10000058-1689447600-1689454800@www.bbhsmuseum.com
SUMMARY:Outdoor Summer Film - Moby Dick
DESCRIPTION:Please take a moment to view the menu.
URL:https://www.bbhsmuseum.com/event/3874/
LOCATION:The Barn Museum\, 31 Bellport Lane\, Bellport\, NY\, 11713\, United States
END:VEVENT
END:VCALENDAR