BEGIN:VCALENDAR
VERSION:2.0
PRODID:-//BELLPORT-BROOKHAVEN HISTORICAL MUSEUM - ECPv6.15.20//NONSGML v1.0//EN
CALSCALE:GREGORIAN
METHOD:PUBLISH
X-ORIGINAL-URL:https://www.bbhsmuseum.com
X-WR-CALDESC:Events for BELLPORT-BROOKHAVEN HISTORICAL MUSEUM
REFRESH-INTERVAL;VALUE=DURATION:PT1H
X-Robots-Tag:noindex
X-PUBLISHED-TTL:PT1H
BEGIN:VTIMEZONE
TZID:America/New_York
BEGIN:DAYLIGHT
TZOFFSETFROM:-0500
TZOFFSETTO:-0400
TZNAME:EDT
DTSTART:20220313T070000
END:DAYLIGHT
BEGIN:STANDARD
TZOFFSETFROM:-0400
TZOFFSETTO:-0500
TZNAME:EST
DTSTART:20221106T060000
END:STANDARD
BEGIN:DAYLIGHT
TZOFFSETFROM:-0500
TZOFFSETTO:-0400
TZNAME:EDT
DTSTART:20230312T070000
END:DAYLIGHT
BEGIN:STANDARD
TZOFFSETFROM:-0400
TZOFFSETTO:-0500
TZNAME:EST
DTSTART:20231105T060000
END:STANDARD
BEGIN:DAYLIGHT
TZOFFSETFROM:-0500
TZOFFSETTO:-0400
TZNAME:EDT
DTSTART:20240310T070000
END:DAYLIGHT
BEGIN:STANDARD
TZOFFSETFROM:-0400
TZOFFSETTO:-0500
TZNAME:EST
DTSTART:20241103T060000
END:STANDARD
END:VTIMEZONE
BEGIN:VEVENT
DTSTART;TZID=America/New_York:20230722T090000
DTEND;TZID=America/New_York:20230722T110000
DTSTAMP:20260423T173428
CREATED:20240112T154229Z
LAST-MODIFIED:20240112T154229Z
UID:10000085-1690016400-1690023600@www.bbhsmuseum.com
SUMMARY:Children's Program -  HABITAT RESTORATION 101 FOR KIDS
DESCRIPTION:
URL:https://www.bbhsmuseum.com/event/childrens-program-habitat-restoration-101-for-kids/
CATEGORIES:Children's Program
ATTACH;FMTTYPE=image/png:https://www.bbhsmuseum.com/wp-content/uploads/2024/01/Screenshot-2024-01-12-at-10.39.45 AM.png
ORGANIZER;CN="Bellport Brookhaven Historical Society":MAILTO:bbhsmuseumrsvp@gmail.com
END:VEVENT
BEGIN:VEVENT
DTSTART;TZID=America/New_York:20230625T100000
DTEND;TZID=America/New_York:20230625T110000
DTSTAMP:20260423T173428
CREATED:20240112T145131Z
LAST-MODIFIED:20240112T150734Z
UID:10000079-1687687200-1687690800@www.bbhsmuseum.com
SUMMARY:Children's Program - BELLPORT BOATS & BOATBUILDING
DESCRIPTION:
URL:https://www.bbhsmuseum.com/event/childrens-program-bellport-boats-boatbuilding/
LOCATION:The Pokorny Room\, 12 Bell Street\, Bellport\, NY\, 11713\, United States
CATEGORIES:Children's Program
ATTACH;FMTTYPE=image/png:https://www.bbhsmuseum.com/wp-content/uploads/2024/01/Screenshot-2024-01-12-at-9.46.54 AM.png
ORGANIZER;CN="Bellport Brookhaven Historical Society":MAILTO:bbhsmuseumrsvp@gmail.com
END:VEVENT
BEGIN:VEVENT
DTSTART;TZID=America/New_York:20230520T100000
DTEND;TZID=America/New_York:20230520T110000
DTSTAMP:20260423T173428
CREATED:20240112T150403Z
LAST-MODIFIED:20240112T150403Z
UID:10000080-1684576800-1684580400@www.bbhsmuseum.com
SUMMARY:Children's Program - CAPTURING NATURE: A SHOEBOX DIORAMA WORKSHOP
DESCRIPTION:
URL:https://www.bbhsmuseum.com/event/childrens-program-capturing-nature-a-shoebox-diorama-workshop/
LOCATION:The Pokorny Room\, 12 Bell Street\, Bellport\, NY\, 11713\, United States
CATEGORIES:Children's Program
ATTACH;FMTTYPE=image/png:https://www.bbhsmuseum.com/wp-content/uploads/2024/01/Screenshot-2024-01-12-at-9.59.45 AM.png
ORGANIZER;CN="Bellport Brookhaven Historical Society":MAILTO:bbhsmuseumrsvp@gmail.com
END:VEVENT
BEGIN:VEVENT
DTSTART;TZID=America/New_York:20230422T130000
DTEND;TZID=America/New_York:20230422T150000
DTSTAMP:20260423T173428
CREATED:20240112T151330Z
LAST-MODIFIED:20240112T151330Z
UID:10000081-1682168400-1682175600@www.bbhsmuseum.com
SUMMARY:Children's Program - Earth Day Celebration
DESCRIPTION:
URL:https://www.bbhsmuseum.com/event/childrens-program-earth-day-celebration/
LOCATION:The Pokorny Room\, 12 Bell Street\, Bellport\, NY\, 11713\, United States
CATEGORIES:Children's Program
ATTACH;FMTTYPE=image/jpeg:https://www.bbhsmuseum.com/wp-content/uploads/2024/01/skynews-earth-day-2023-earth-day_6102094.jpg
ORGANIZER;CN="Bellport Brookhaven Historical Society":MAILTO:bbhsmuseumrsvp@gmail.com
END:VEVENT
BEGIN:VEVENT
DTSTART;TZID=America/New_York:20230326T100000
DTEND;TZID=America/New_York:20230326T110000
DTSTAMP:20260423T173428
CREATED:20240112T151939Z
LAST-MODIFIED:20240112T154410Z
UID:10000082-1679824800-1679828400@www.bbhsmuseum.com
SUMMARY:Children's Program - QUACK! DUCKS\, DECOYS & LIFE ON THE WATER
DESCRIPTION:
URL:https://www.bbhsmuseum.com/event/childrens-program-quack-ducks-decoys-life-on-the-water/
LOCATION:The Pokorny Room\, 12 Bell Street\, Bellport\, NY\, 11713\, United States
CATEGORIES:Children's Program
ATTACH;FMTTYPE=image/png:https://www.bbhsmuseum.com/wp-content/uploads/2024/01/Screenshot-2024-01-12-at-10.15.45 AM.png
ORGANIZER;CN="Bellport Brookhaven Historical Society":MAILTO:bbhsmuseumrsvp@gmail.com
END:VEVENT
BEGIN:VEVENT
DTSTART;TZID=America/New_York:20230304T170000
DTEND;TZID=America/New_York:20230304T190000
DTSTAMP:20260423T173428
CREATED:20230217T160348Z
LAST-MODIFIED:20230304T011143Z
UID:10000033-1677949200-1677956400@www.bbhsmuseum.com
SUMMARY:Soul Of A Farmer
DESCRIPTION:
URL:https://www.bbhsmuseum.com/event/soul-of-a-farmer/
LOCATION:The Brown Building\, 12 Bell Street\, Bellport\, NY\, 11713\, United States
ORGANIZER;CN="Bellport Brookhaven Historical Society":MAILTO:bbhsmuseumrsvp@gmail.com
END:VEVENT
BEGIN:VEVENT
DTSTART;TZID=America/New_York:20230219T100000
DTEND;TZID=America/New_York:20230219T110000
DTSTAMP:20260423T173428
CREATED:20240112T153748Z
LAST-MODIFIED:20240112T153827Z
UID:10000084-1676800800-1676804400@www.bbhsmuseum.com
SUMMARY:Children's Program - BELLPORT BEFORE ELECTRICITY!
DESCRIPTION:
URL:https://www.bbhsmuseum.com/event/5145/
LOCATION:Post-Crowell House\, 31 Bellport Lane\, Bellport\, New York\, 11713
CATEGORIES:Children's Program
ATTACH;FMTTYPE=image/png:https://www.bbhsmuseum.com/wp-content/uploads/2024/01/Screenshot-2024-01-12-at-10.36.01 AM.png
ORGANIZER;CN="Bellport Brookhaven Historical Society":MAILTO:bbhsmuseumrsvp@gmail.com
END:VEVENT
BEGIN:VEVENT
DTSTART;TZID=America/New_York:20230211T170000
DTEND;TZID=America/New_York:20230211T190000
DTSTAMP:20260423T173428
CREATED:20230129T061644Z
LAST-MODIFIED:20230217T143518Z
UID:10000006-1676134800-1676142000@www.bbhsmuseum.com
SUMMARY:The Environmentalists
DESCRIPTION:
URL:https://www.bbhsmuseum.com/event/the-environmentalists/
LOCATION:The Brown Building\, 12 Bell Street\, Bellport\, NY\, 11713\, United States
ORGANIZER;CN="Bellport Brookhaven Historical Society":MAILTO:bbhsmuseumrsvp@gmail.com
END:VEVENT
END:VCALENDAR