BEGIN:VCALENDAR
VERSION:2.0
PRODID:-//BELLPORT-BROOKHAVEN HISTORICAL MUSEUM - ECPv6.15.20//NONSGML v1.0//EN
CALSCALE:GREGORIAN
METHOD:PUBLISH
X-ORIGINAL-URL:https://www.bbhsmuseum.com
X-WR-CALDESC:Events for BELLPORT-BROOKHAVEN HISTORICAL MUSEUM
REFRESH-INTERVAL;VALUE=DURATION:PT1H
X-Robots-Tag:noindex
X-PUBLISHED-TTL:PT1H
BEGIN:VTIMEZONE
TZID:America/New_York
BEGIN:DAYLIGHT
TZOFFSETFROM:-0500
TZOFFSETTO:-0400
TZNAME:EDT
DTSTART:20220313T070000
END:DAYLIGHT
BEGIN:STANDARD
TZOFFSETFROM:-0400
TZOFFSETTO:-0500
TZNAME:EST
DTSTART:20221106T060000
END:STANDARD
BEGIN:DAYLIGHT
TZOFFSETFROM:-0500
TZOFFSETTO:-0400
TZNAME:EDT
DTSTART:20230312T070000
END:DAYLIGHT
BEGIN:STANDARD
TZOFFSETFROM:-0400
TZOFFSETTO:-0500
TZNAME:EST
DTSTART:20231105T060000
END:STANDARD
BEGIN:DAYLIGHT
TZOFFSETFROM:-0500
TZOFFSETTO:-0400
TZNAME:EDT
DTSTART:20240310T070000
END:DAYLIGHT
BEGIN:STANDARD
TZOFFSETFROM:-0400
TZOFFSETTO:-0500
TZNAME:EST
DTSTART:20241103T060000
END:STANDARD
END:VTIMEZONE
BEGIN:VEVENT
DTSTART;TZID=America/New_York:20231203T130000
DTEND;TZID=America/New_York:20231203T160000
DTSTAMP:20260425T162149
CREATED:20231120T225321Z
LAST-MODIFIED:20231120T225402Z
UID:10000072-1701608400-1701619200@www.bbhsmuseum.com
SUMMARY:Annual Holiday Party 2023
DESCRIPTION:
URL:https://www.bbhsmuseum.com/event/4792/
LOCATION:The Brown Building\, 12 Bell Street\, Bellport\, NY\, 11713\, United States
END:VEVENT
END:VCALENDAR