BEGIN:VCALENDAR
VERSION:2.0
PRODID:-//BELLPORT-BROOKHAVEN HISTORICAL MUSEUM - ECPv6.15.20//NONSGML v1.0//EN
CALSCALE:GREGORIAN
METHOD:PUBLISH
X-ORIGINAL-URL:https://www.bbhsmuseum.com
X-WR-CALDESC:Events for BELLPORT-BROOKHAVEN HISTORICAL MUSEUM
REFRESH-INTERVAL;VALUE=DURATION:PT1H
X-Robots-Tag:noindex
X-PUBLISHED-TTL:PT1H
BEGIN:VTIMEZONE
TZID:America/New_York
BEGIN:DAYLIGHT
TZOFFSETFROM:-0500
TZOFFSETTO:-0400
TZNAME:EDT
DTSTART:20240310T070000
END:DAYLIGHT
BEGIN:STANDARD
TZOFFSETFROM:-0400
TZOFFSETTO:-0500
TZNAME:EST
DTSTART:20241103T060000
END:STANDARD
BEGIN:DAYLIGHT
TZOFFSETFROM:-0500
TZOFFSETTO:-0400
TZNAME:EDT
DTSTART:20250309T070000
END:DAYLIGHT
BEGIN:STANDARD
TZOFFSETFROM:-0400
TZOFFSETTO:-0500
TZNAME:EST
DTSTART:20251102T060000
END:STANDARD
BEGIN:DAYLIGHT
TZOFFSETFROM:-0500
TZOFFSETTO:-0400
TZNAME:EDT
DTSTART:20260308T070000
END:DAYLIGHT
BEGIN:STANDARD
TZOFFSETFROM:-0400
TZOFFSETTO:-0500
TZNAME:EST
DTSTART:20261101T060000
END:STANDARD
END:VTIMEZONE
BEGIN:VEVENT
DTSTART;TZID=America/New_York:20250607T180000
DTEND;TZID=America/New_York:20250607T210000
DTSTAMP:20260424T035951
CREATED:20250430T223827Z
LAST-MODIFIED:20250608T180609Z
UID:10000718-1749319200-1749330000@www.bbhsmuseum.com
SUMMARY:Annual Benefit Gala
DESCRIPTION:
URL:https://www.bbhsmuseum.com/event/annual-benefit-gala/
LOCATION:BBHS Museum\, 31 Bellport Lane\, Bellport\, NY\, 11713\, United States
ATTACH;FMTTYPE=image/jpeg:https://www.bbhsmuseum.com/wp-content/uploads/2025/05/WGSEmail.jpeg
ORGANIZER;CN="Bellport Brookhaven Historical Society":MAILTO:bbhsmuseumrsvp@gmail.com
END:VEVENT
BEGIN:VEVENT
DTSTART;TZID=America/New_York:20250622T100000
DTEND;TZID=America/New_York:20250622T110000
DTSTAMP:20260424T035951
CREATED:20250616T221616Z
LAST-MODIFIED:20250616T221857Z
UID:10000722-1750586400-1750590000@www.bbhsmuseum.com
SUMMARY:Children's Program - Sailor Knot Tying
DESCRIPTION:click here to rsvp.
URL:https://www.bbhsmuseum.com/event/childrens-program-sailor-knot-tying/
LOCATION:The Brown Building\, 12 Bell Street\, Bellport\, NY\, 11713\, United States
ATTACH;FMTTYPE=image/png:https://www.bbhsmuseum.com/wp-content/uploads/2025/06/2aa47412-ecbb-0652-5c78-8abda5a2b37a.png
ORGANIZER;CN="Bellport Brookhaven Historical Society":MAILTO:bbhsmuseumrsvp@gmail.com
END:VEVENT
BEGIN:VEVENT
DTSTART;TZID=America/New_York:20250628T170000
DTEND;TZID=America/New_York:20250628T190000
DTSTAMP:20260424T035951
CREATED:20250501T233001Z
LAST-MODIFIED:20250629T121938Z
UID:10000720-1751130000-1751137200@www.bbhsmuseum.com
SUMMARY:ARTISTS AND AUTHORS featuring JUSTIN EVANS
DESCRIPTION:
URL:https://www.bbhsmuseum.com/event/artists-and-authors-featuring-justin-evans/
LOCATION:The Pokorny Room\, 12 Bell Street\, Bellport\, NY\, 11713\, United States
ATTACH;FMTTYPE=image/jpeg:https://www.bbhsmuseum.com/wp-content/uploads/2025/06/LittleDataREV-1.jpeg
ORGANIZER;CN="Bellport Brookhaven Historical Society":MAILTO:bbhsmuseumrsvp@gmail.com
END:VEVENT
END:VCALENDAR