BEGIN:VCALENDAR
VERSION:2.0
PRODID:-//BELLPORT-BROOKHAVEN HISTORICAL MUSEUM - ECPv6.15.20//NONSGML v1.0//EN
CALSCALE:GREGORIAN
METHOD:PUBLISH
X-ORIGINAL-URL:https://www.bbhsmuseum.com
X-WR-CALDESC:Events for BELLPORT-BROOKHAVEN HISTORICAL MUSEUM
REFRESH-INTERVAL;VALUE=DURATION:PT1H
X-Robots-Tag:noindex
X-PUBLISHED-TTL:PT1H
BEGIN:VTIMEZONE
TZID:America/New_York
BEGIN:DAYLIGHT
TZOFFSETFROM:-0500
TZOFFSETTO:-0400
TZNAME:EDT
DTSTART:20240310T070000
END:DAYLIGHT
BEGIN:STANDARD
TZOFFSETFROM:-0400
TZOFFSETTO:-0500
TZNAME:EST
DTSTART:20241103T060000
END:STANDARD
BEGIN:DAYLIGHT
TZOFFSETFROM:-0500
TZOFFSETTO:-0400
TZNAME:EDT
DTSTART:20250309T070000
END:DAYLIGHT
BEGIN:STANDARD
TZOFFSETFROM:-0400
TZOFFSETTO:-0500
TZNAME:EST
DTSTART:20251102T060000
END:STANDARD
BEGIN:DAYLIGHT
TZOFFSETFROM:-0500
TZOFFSETTO:-0400
TZNAME:EDT
DTSTART:20260308T070000
END:DAYLIGHT
BEGIN:STANDARD
TZOFFSETFROM:-0400
TZOFFSETTO:-0500
TZNAME:EST
DTSTART:20261101T060000
END:STANDARD
END:VTIMEZONE
BEGIN:VEVENT
DTSTART;TZID=America/New_York:20250315T170000
DTEND;TZID=America/New_York:20250315T190000
DTSTAMP:20260424T114349
CREATED:20250205T003140Z
LAST-MODIFIED:20250310T134939Z
UID:10000713-1742058000-1742065200@www.bbhsmuseum.com
SUMMARY:BBHS Presents - Future Nostalgia
DESCRIPTION:
URL:https://www.bbhsmuseum.com/event/bbhs-presents-future-nostalgia/
LOCATION:The Brown Building\, 12 Bell Street\, Bellport\, NY\, 11713\, United States
ATTACH;FMTTYPE=image/jpeg:https://www.bbhsmuseum.com/wp-content/uploads/2025/03/Future-nostalgia-web.jpg
ORGANIZER;CN="Bellport Brookhaven Historical Society":MAILTO:bbhsmuseumrsvp@gmail.com
END:VEVENT
BEGIN:VEVENT
DTSTART;TZID=America/New_York:20250322T170000
DTEND;TZID=America/New_York:20250322T190000
DTSTAMP:20260424T114349
CREATED:20250310T145944Z
LAST-MODIFIED:20250310T150015Z
UID:10000715-1742662800-1742670000@www.bbhsmuseum.com
SUMMARY:BBHS Presents - FUTURE NOSTALGIA an intimate dialogue
DESCRIPTION:
URL:https://www.bbhsmuseum.com/event/bbhs-presents-future-nostalgia-an-intimate-dialogue/
LOCATION:The Brown Building\, 12 Bell Street\, Bellport\, NY\, 11713\, United States
ATTACH;FMTTYPE=image/jpeg:https://www.bbhsmuseum.com/wp-content/uploads/2025/03/Future-nostalgia-INVITE-panel-discussion-web.jpg
ORGANIZER;CN="Bellport Brookhaven Historical Society":MAILTO:bbhsmuseumrsvp@gmail.com
END:VEVENT
END:VCALENDAR