BEGIN:VCALENDAR
VERSION:2.0
PRODID:-//BELLPORT-BROOKHAVEN HISTORICAL MUSEUM - ECPv6.15.20//NONSGML v1.0//EN
CALSCALE:GREGORIAN
METHOD:PUBLISH
X-WR-CALNAME:BELLPORT-BROOKHAVEN HISTORICAL MUSEUM
X-ORIGINAL-URL:https://www.bbhsmuseum.com
X-WR-CALDESC:Events for BELLPORT-BROOKHAVEN HISTORICAL MUSEUM
REFRESH-INTERVAL;VALUE=DURATION:PT1H
X-Robots-Tag:noindex
X-PUBLISHED-TTL:PT1H
BEGIN:VTIMEZONE
TZID:America/New_York
BEGIN:DAYLIGHT
TZOFFSETFROM:-0500
TZOFFSETTO:-0400
TZNAME:EDT
DTSTART:20230312T070000
END:DAYLIGHT
BEGIN:STANDARD
TZOFFSETFROM:-0400
TZOFFSETTO:-0500
TZNAME:EST
DTSTART:20231105T060000
END:STANDARD
BEGIN:DAYLIGHT
TZOFFSETFROM:-0500
TZOFFSETTO:-0400
TZNAME:EDT
DTSTART:20240310T070000
END:DAYLIGHT
BEGIN:STANDARD
TZOFFSETFROM:-0400
TZOFFSETTO:-0500
TZNAME:EST
DTSTART:20241103T060000
END:STANDARD
BEGIN:DAYLIGHT
TZOFFSETFROM:-0500
TZOFFSETTO:-0400
TZNAME:EDT
DTSTART:20250309T070000
END:DAYLIGHT
BEGIN:STANDARD
TZOFFSETFROM:-0400
TZOFFSETTO:-0500
TZNAME:EST
DTSTART:20251102T060000
END:STANDARD
END:VTIMEZONE
BEGIN:VEVENT
DTSTART;TZID=America/New_York:20241012T170000
DTEND;TZID=America/New_York:20241012T190000
DTSTAMP:20260424T215137
CREATED:20240910T000754Z
LAST-MODIFIED:20241013T222712Z
UID:10000691-1728752400-1728759600@www.bbhsmuseum.com
SUMMARY:BBHS Presents - Local History Lecture
DESCRIPTION:
URL:https://www.bbhsmuseum.com/event/bbhs-presents-local-history-lecture/
LOCATION:Old South Haven Presbyterian Church\, 329 S Country Rd\, Brookhaven\, NY\, 11719\, United States
ATTACH;FMTTYPE=image/jpeg:https://www.bbhsmuseum.com/wp-content/uploads/2024/09/LOCAL-HISTORY-TALK-Final-web.jpg
ORGANIZER;CN="Bellport Brookhaven Historical Society":MAILTO:bbhsmuseumrsvp@gmail.com
END:VEVENT
BEGIN:VEVENT
DTSTART;TZID=America/New_York:20241019T150000
DTEND;TZID=America/New_York:20241019T170000
DTSTAMP:20260424T215137
CREATED:20240928T150006Z
LAST-MODIFIED:20241023T035628Z
UID:10000694-1729350000-1729357200@www.bbhsmuseum.com
SUMMARY:Haunted History Tour
DESCRIPTION:
URL:https://www.bbhsmuseum.com/event/haunted-history-tour/
LOCATION:BBHS Museum\, 31 Bellport Lane\, Bellport\, NY\, 11713\, United States
ATTACH;FMTTYPE=image/png:https://www.bbhsmuseum.com/wp-content/uploads/2024/09/SpookyBBHSweb.png
ORGANIZER;CN="Bellport Brookhaven Historical Society":MAILTO:bbhsmuseumrsvp@gmail.com
END:VEVENT
BEGIN:VEVENT
DTSTART;TZID=America/New_York:20241026T110000
DTEND;TZID=America/New_York:20241026T140000
DTSTAMP:20260424T215137
CREATED:20240928T151015Z
LAST-MODIFIED:20241029T215028Z
UID:10000695-1729940400-1729951200@www.bbhsmuseum.com
SUMMARY:Pumpkin Night
DESCRIPTION:
URL:https://www.bbhsmuseum.com/event/pumpkin-night-2/
LOCATION:Post-Crowell House\, 31 Bellport Lane\, Bellport\, New York\, 11713
ATTACH;FMTTYPE=image/png:https://www.bbhsmuseum.com/wp-content/uploads/2024/09/BBHS_2022_-Pumpkin-Blaze_Date-change-web.png
ORGANIZER;CN="Bellport Brookhaven Historical Society":MAILTO:bbhsmuseumrsvp@gmail.com
END:VEVENT
BEGIN:VEVENT
DTSTART;TZID=America/New_York:20241026T150000
DTEND;TZID=America/New_York:20241026T160000
DTSTAMP:20260424T215138
CREATED:20241010T000203Z
LAST-MODIFIED:20241026T143102Z
UID:10000698-1729954800-1729958400@www.bbhsmuseum.com
SUMMARY:Woodland Cemetery Tour
DESCRIPTION:
URL:https://www.bbhsmuseum.com/event/woodlawn-cemetery-tour/
LOCATION:Woodland Cemetery\, 100 Station Rd\, Bellport\, NY\, 11713\, United States
ATTACH;FMTTYPE=image/jpeg:https://www.bbhsmuseum.com/wp-content/uploads/2024/10/BBHS-2024-Cemetery-Walking-Tour-closed.jpg
ORGANIZER;CN="Bellport Brookhaven Historical Society":MAILTO:bbhsmuseumrsvp@gmail.com
END:VEVENT
BEGIN:VEVENT
DTSTART;TZID=America/New_York:20241026T170000
DTEND;TZID=America/New_York:20241026T210000
DTSTAMP:20260424T215138
CREATED:20240928T153112Z
LAST-MODIFIED:20240928T154022Z
UID:10000697-1729962000-1729976400@www.bbhsmuseum.com
SUMMARY:Pumpkin Blaze Display
DESCRIPTION:See your glowing pumpkin creations displayed on the front lawn of 31 Bellport Lanel
URL:https://www.bbhsmuseum.com/event/pumpkin-blaze-display/
LOCATION:Post-Crowell House\, 31 Bellport Lane\, Bellport\, New York\, 11713
ATTACH;FMTTYPE=image/png:https://www.bbhsmuseum.com/wp-content/uploads/2024/09/BBHS_2022_-Pumpkin-Blaze_Date-change-web.png
ORGANIZER;CN="Bellport Brookhaven Historical Society":MAILTO:bbhsmuseumrsvp@gmail.com
END:VEVENT
END:VCALENDAR