BEGIN:VCALENDAR
VERSION:2.0
PRODID:-//BELLPORT-BROOKHAVEN HISTORICAL MUSEUM - ECPv6.15.20//NONSGML v1.0//EN
CALSCALE:GREGORIAN
METHOD:PUBLISH
X-WR-CALNAME:BELLPORT-BROOKHAVEN HISTORICAL MUSEUM
X-ORIGINAL-URL:https://www.bbhsmuseum.com
X-WR-CALDESC:Events for BELLPORT-BROOKHAVEN HISTORICAL MUSEUM
REFRESH-INTERVAL;VALUE=DURATION:PT1H
X-Robots-Tag:noindex
X-PUBLISHED-TTL:PT1H
BEGIN:VTIMEZONE
TZID:America/New_York
BEGIN:DAYLIGHT
TZOFFSETFROM:-0500
TZOFFSETTO:-0400
TZNAME:EDT
DTSTART:20210314T070000
END:DAYLIGHT
BEGIN:STANDARD
TZOFFSETFROM:-0400
TZOFFSETTO:-0500
TZNAME:EST
DTSTART:20211107T060000
END:STANDARD
BEGIN:DAYLIGHT
TZOFFSETFROM:-0500
TZOFFSETTO:-0400
TZNAME:EDT
DTSTART:20220313T070000
END:DAYLIGHT
BEGIN:STANDARD
TZOFFSETFROM:-0400
TZOFFSETTO:-0500
TZNAME:EST
DTSTART:20221106T060000
END:STANDARD
BEGIN:DAYLIGHT
TZOFFSETFROM:-0500
TZOFFSETTO:-0400
TZNAME:EDT
DTSTART:20230312T070000
END:DAYLIGHT
BEGIN:STANDARD
TZOFFSETFROM:-0400
TZOFFSETTO:-0500
TZNAME:EST
DTSTART:20231105T060000
END:STANDARD
BEGIN:DAYLIGHT
TZOFFSETFROM:-0500
TZOFFSETTO:-0400
TZNAME:EDT
DTSTART:20240310T070000
END:DAYLIGHT
BEGIN:STANDARD
TZOFFSETFROM:-0400
TZOFFSETTO:-0500
TZNAME:EST
DTSTART:20241103T060000
END:STANDARD
END:VTIMEZONE
BEGIN:VEVENT
DTSTART;TZID=America/New_York:20230729T170000
DTEND;TZID=America/New_York:20230729T190000
DTSTAMP:20260424T024813
CREATED:20230503T031659Z
LAST-MODIFIED:20230503T032115Z
UID:10000056-1690650000-1690657200@www.bbhsmuseum.com
SUMMARY:Rumrunning in Suffolk County
DESCRIPTION:
URL:https://www.bbhsmuseum.com/event/rumrunning-in-suffolk-county/
LOCATION:The Brown Building\, 12 Bell Street\, Bellport\, NY\, 11713\, United States
END:VEVENT
BEGIN:VEVENT
DTSTART;TZID=America/New_York:20230722T090000
DTEND;TZID=America/New_York:20230722T110000
DTSTAMP:20260424T024813
CREATED:20240112T154229Z
LAST-MODIFIED:20240112T154229Z
UID:10000085-1690016400-1690023600@www.bbhsmuseum.com
SUMMARY:Children's Program -  HABITAT RESTORATION 101 FOR KIDS
DESCRIPTION:
URL:https://www.bbhsmuseum.com/event/childrens-program-habitat-restoration-101-for-kids/
LOCATION:NY
CATEGORIES:Children's Program
ATTACH;FMTTYPE=image/png:https://www.bbhsmuseum.com/wp-content/uploads/2024/01/Screenshot-2024-01-12-at-10.39.45 AM.png
ORGANIZER;CN="Bellport Brookhaven Historical Society":MAILTO:bbhsmuseumrsvp@gmail.com
END:VEVENT
BEGIN:VEVENT
DTSTART;TZID=America/New_York:20230715T190000
DTEND;TZID=America/New_York:20230715T210000
DTSTAMP:20260424T024813
CREATED:20230503T032622Z
LAST-MODIFIED:20230530T010611Z
UID:10000058-1689447600-1689454800@www.bbhsmuseum.com
SUMMARY:Outdoor Summer Film - Moby Dick
DESCRIPTION:Please take a moment to view the menu.
URL:https://www.bbhsmuseum.com/event/3874/
LOCATION:The Barn Museum\, 31 Bellport Lane\, Bellport\, NY\, 11713\, United States
END:VEVENT
BEGIN:VEVENT
DTSTART;TZID=America/New_York:20230704T090000
DTEND;TZID=America/New_York:20230704T160000
DTSTAMP:20260424T024813
CREATED:20230610T060911Z
LAST-MODIFIED:20230610T060911Z
UID:10000062-1688461200-1688486400@www.bbhsmuseum.com
SUMMARY:Annual Antique Show
DESCRIPTION:
URL:https://www.bbhsmuseum.com/event/annual-antique-show/
LOCATION:Post-Crowell House\, 31 Bellport Lane\, Bellport\, New York\, 11713
END:VEVENT
BEGIN:VEVENT
DTSTART;TZID=America/New_York:20230701T170000
DTEND;TZID=America/New_York:20230701T190000
DTSTAMP:20260424T024813
CREATED:20230503T031935Z
LAST-MODIFIED:20230503T033559Z
UID:10000057-1688230800-1688238000@www.bbhsmuseum.com
SUMMARY:On the Waterfront: Captain's House Tour
DESCRIPTION:
URL:https://www.bbhsmuseum.com/event/on-the-waterfront-captains-house-tour/
LOCATION:Post-Crowell House\, 31 Bellport Lane\, Bellport\, New York\, 11713
END:VEVENT
BEGIN:VEVENT
DTSTART;TZID=America/New_York:20230625T100000
DTEND;TZID=America/New_York:20230625T110000
DTSTAMP:20260424T024813
CREATED:20240112T145131Z
LAST-MODIFIED:20240112T150734Z
UID:10000079-1687687200-1687690800@www.bbhsmuseum.com
SUMMARY:Children's Program - BELLPORT BOATS & BOATBUILDING
DESCRIPTION:
URL:https://www.bbhsmuseum.com/event/childrens-program-bellport-boats-boatbuilding/
LOCATION:The Pokorny Room\, 12 Bell Street\, Bellport\, NY\, 11713\, United States
CATEGORIES:Children's Program
ATTACH;FMTTYPE=image/png:https://www.bbhsmuseum.com/wp-content/uploads/2024/01/Screenshot-2024-01-12-at-9.46.54 AM.png
ORGANIZER;CN="Bellport Brookhaven Historical Society":MAILTO:bbhsmuseumrsvp@gmail.com
END:VEVENT
BEGIN:VEVENT
DTSTART;TZID=America/New_York:20230603T180000
DTEND;TZID=America/New_York:20230603T210000
DTSTAMP:20260424T024813
CREATED:20230405T001009Z
LAST-MODIFIED:20230517T013842Z
UID:10000055-1685815200-1685826000@www.bbhsmuseum.com
SUMMARY:On The Waterfront - Whaling Days to Sailing Days
DESCRIPTION:
URL:https://www.bbhsmuseum.com/event/on-the-waterfront-from-whaling-days-to-sailing-days/
LOCATION:The Brown Building\, 12 Bell Street\, Bellport\, NY\, 11713\, United States
END:VEVENT
BEGIN:VEVENT
DTSTART;TZID=America/New_York:20230520T160000
DTEND;TZID=America/New_York:20230520T190000
DTSTAMP:20260424T024813
CREATED:20230310T014835Z
LAST-MODIFIED:20230510T002712Z
UID:10000041-1684598400-1684609200@www.bbhsmuseum.com
SUMMARY:PRIVATE ART TOUR AND RECEPTION
DESCRIPTION:
URL:https://www.bbhsmuseum.com/event/private-art-tour-and-reception/
LOCATION:NY
END:VEVENT
BEGIN:VEVENT
DTSTART;TZID=America/New_York:20230520T100000
DTEND;TZID=America/New_York:20230520T110000
DTSTAMP:20260424T024813
CREATED:20240112T150403Z
LAST-MODIFIED:20240112T150403Z
UID:10000080-1684576800-1684580400@www.bbhsmuseum.com
SUMMARY:Children's Program - CAPTURING NATURE: A SHOEBOX DIORAMA WORKSHOP
DESCRIPTION:
URL:https://www.bbhsmuseum.com/event/childrens-program-capturing-nature-a-shoebox-diorama-workshop/
LOCATION:The Pokorny Room\, 12 Bell Street\, Bellport\, NY\, 11713\, United States
CATEGORIES:Children's Program
ATTACH;FMTTYPE=image/png:https://www.bbhsmuseum.com/wp-content/uploads/2024/01/Screenshot-2024-01-12-at-9.59.45 AM.png
ORGANIZER;CN="Bellport Brookhaven Historical Society":MAILTO:bbhsmuseumrsvp@gmail.com
END:VEVENT
BEGIN:VEVENT
DTSTART;VALUE=DATE:20230429
DTEND;VALUE=DATE:20230501
DTSTAMP:20260424T024813
CREATED:20230224T014511Z
LAST-MODIFIED:20230426T011553Z
UID:10000035-1682726400-1682899199@www.bbhsmuseum.com
SUMMARY:The Environmentalists
DESCRIPTION:
URL:https://www.bbhsmuseum.com/event/the-environmentalists-2/
LOCATION:The Gallery\, 12 Bell Street\, Bellport\, NY\, 11713\, United States
END:VEVENT
BEGIN:VEVENT
DTSTART;TZID=America/New_York:20230422T130000
DTEND;TZID=America/New_York:20230422T150000
DTSTAMP:20260424T024813
CREATED:20240112T151330Z
LAST-MODIFIED:20240112T151330Z
UID:10000081-1682168400-1682175600@www.bbhsmuseum.com
SUMMARY:Children's Program - Earth Day Celebration
DESCRIPTION:
URL:https://www.bbhsmuseum.com/event/childrens-program-earth-day-celebration/
LOCATION:The Pokorny Room\, 12 Bell Street\, Bellport\, NY\, 11713\, United States
CATEGORIES:Children's Program
ATTACH;FMTTYPE=image/jpeg:https://www.bbhsmuseum.com/wp-content/uploads/2024/01/skynews-earth-day-2023-earth-day_6102094.jpg
ORGANIZER;CN="Bellport Brookhaven Historical Society":MAILTO:bbhsmuseumrsvp@gmail.com
END:VEVENT
BEGIN:VEVENT
DTSTART;TZID=America/New_York:20230422T110000
DTEND;TZID=America/New_York:20230422T160000
DTSTAMP:20260424T024813
CREATED:20230228T000846Z
LAST-MODIFIED:20230303T005213Z
UID:10000038-1682161200-1682179200@www.bbhsmuseum.com
SUMMARY:Visit to Post-Morrow Foundation Headquarters
DESCRIPTION:
URL:https://www.bbhsmuseum.com/event/visit-to-post-morrow-foundation-headquarters/
LOCATION:Post Morrow\, 16 Bay Road\, Brookhaven\, NY\, 11719\, United States
END:VEVENT
BEGIN:VEVENT
DTSTART;TZID=America/New_York:20230408T170000
DTEND;TZID=America/New_York:20230408T190000
DTSTAMP:20260424T024813
CREATED:20230307T052604Z
LAST-MODIFIED:20230501T200947Z
UID:10000039-1680973200-1680980400@www.bbhsmuseum.com
SUMMARY:Artists and Authors Series - Tricia Foley
DESCRIPTION:
URL:https://www.bbhsmuseum.com/event/artists-and-authors-series-tricia-foley/
LOCATION:The Brown Building\, 12 Bell Street\, Bellport\, NY\, 11713\, United States
END:VEVENT
BEGIN:VEVENT
DTSTART;TZID=America/New_York:20230326T100000
DTEND;TZID=America/New_York:20230326T110000
DTSTAMP:20260424T024813
CREATED:20240112T151939Z
LAST-MODIFIED:20240112T154410Z
UID:10000082-1679824800-1679828400@www.bbhsmuseum.com
SUMMARY:Children's Program - QUACK! DUCKS\, DECOYS & LIFE ON THE WATER
DESCRIPTION:
URL:https://www.bbhsmuseum.com/event/childrens-program-quack-ducks-decoys-life-on-the-water/
LOCATION:The Pokorny Room\, 12 Bell Street\, Bellport\, NY\, 11713\, United States
CATEGORIES:Children's Program
ATTACH;FMTTYPE=image/png:https://www.bbhsmuseum.com/wp-content/uploads/2024/01/Screenshot-2024-01-12-at-10.15.45 AM.png
ORGANIZER;CN="Bellport Brookhaven Historical Society":MAILTO:bbhsmuseumrsvp@gmail.com
END:VEVENT
BEGIN:VEVENT
DTSTART;TZID=America/New_York:20230318T163000
DTEND;TZID=America/New_York:20230318T180000
DTSTAMP:20260424T024813
CREATED:20230221T153154Z
LAST-MODIFIED:20230309T151433Z
UID:10000034-1679157000-1679162400@www.bbhsmuseum.com
SUMMARY:The Birds and the Bees in Bellport
DESCRIPTION:
URL:https://www.bbhsmuseum.com/event/the-birds-and-the-bees-in-bellport/
LOCATION:Bellport Community Center\, 4 Bell Street\, Bellport\, NY\, 11713\, United States
END:VEVENT
BEGIN:VEVENT
DTSTART;TZID=America/New_York:20230304T170000
DTEND;TZID=America/New_York:20230304T190000
DTSTAMP:20260424T024813
CREATED:20230217T160348Z
LAST-MODIFIED:20230304T011143Z
UID:10000033-1677949200-1677956400@www.bbhsmuseum.com
SUMMARY:Soul Of A Farmer
DESCRIPTION:
URL:https://www.bbhsmuseum.com/event/soul-of-a-farmer/
LOCATION:The Brown Building\, 12 Bell Street\, Bellport\, NY\, 11713\, United States
ORGANIZER;CN="Bellport Brookhaven Historical Society":MAILTO:bbhsmuseumrsvp@gmail.com
END:VEVENT
BEGIN:VEVENT
DTSTART;TZID=America/New_York:20230219T100000
DTEND;TZID=America/New_York:20230219T110000
DTSTAMP:20260424T024813
CREATED:20240112T153748Z
LAST-MODIFIED:20240112T153827Z
UID:10000084-1676800800-1676804400@www.bbhsmuseum.com
SUMMARY:Children's Program - BELLPORT BEFORE ELECTRICITY!
DESCRIPTION:
URL:https://www.bbhsmuseum.com/event/5145/
LOCATION:Post-Crowell House\, 31 Bellport Lane\, Bellport\, New York\, 11713
CATEGORIES:Children's Program
ATTACH;FMTTYPE=image/png:https://www.bbhsmuseum.com/wp-content/uploads/2024/01/Screenshot-2024-01-12-at-10.36.01 AM.png
ORGANIZER;CN="Bellport Brookhaven Historical Society":MAILTO:bbhsmuseumrsvp@gmail.com
END:VEVENT
BEGIN:VEVENT
DTSTART;TZID=America/New_York:20230219T100000
DTEND;TZID=America/New_York:20230219T110000
DTSTAMP:20260424T024813
CREATED:20230225T190642Z
LAST-MODIFIED:20230225T190642Z
UID:10000036-1676800800-1676804400@www.bbhsmuseum.com
SUMMARY:BELLPORT BEFORE ELECTRICITY
DESCRIPTION:
URL:https://www.bbhsmuseum.com/event/bellport-before-electricity/
LOCATION:NY
END:VEVENT
BEGIN:VEVENT
DTSTART;TZID=America/New_York:20230218T180000
DTEND;TZID=America/New_York:20230218T210000
DTSTAMP:20260424T024813
CREATED:20230129T020209Z
LAST-MODIFIED:20230217T144604Z
UID:10000005-1676743200-1676754000@www.bbhsmuseum.com
SUMMARY:Murder At The Wyandotte Hotel
DESCRIPTION:
URL:https://www.bbhsmuseum.com/event/murder-at-the-wyandotte-hotel/
LOCATION:The Brown Building\, 12 Bell Street\, Bellport\, NY\, 11713\, United States
END:VEVENT
BEGIN:VEVENT
DTSTART;TZID=America/New_York:20230211T170000
DTEND;TZID=America/New_York:20230211T190000
DTSTAMP:20260424T024813
CREATED:20230129T061644Z
LAST-MODIFIED:20230217T143518Z
UID:10000006-1676134800-1676142000@www.bbhsmuseum.com
SUMMARY:The Environmentalists
DESCRIPTION:
URL:https://www.bbhsmuseum.com/event/the-environmentalists/
LOCATION:The Brown Building\, 12 Bell Street\, Bellport\, NY\, 11713\, United States
ORGANIZER;CN="Bellport Brookhaven Historical Society":MAILTO:bbhsmuseumrsvp@gmail.com
END:VEVENT
BEGIN:VEVENT
DTSTART;TZID=America/New_York:20221204T130000
DTEND;TZID=America/New_York:20221204T160000
DTSTAMP:20260424T024813
CREATED:20230201T002404Z
LAST-MODIFIED:20230201T002404Z
UID:10000007-1670158800-1670169600@www.bbhsmuseum.com
SUMMARY:Holiday Party
DESCRIPTION:
URL:https://www.bbhsmuseum.com/event/holiday-party/
LOCATION:NY
END:VEVENT
BEGIN:VEVENT
DTSTART;TZID=America/New_York:20221126T170000
DTEND;TZID=America/New_York:20221126T190000
DTSTAMP:20260424T024813
CREATED:20230201T002741Z
LAST-MODIFIED:20230201T002741Z
UID:10000008-1669482000-1669489200@www.bbhsmuseum.com
SUMMARY:All Creatures Great and Small
DESCRIPTION:
URL:https://www.bbhsmuseum.com/event/all-creatures-great-and-small/
LOCATION:NY
END:VEVENT
BEGIN:VEVENT
DTSTART;TZID=America/New_York:20221119T170000
DTEND;TZID=America/New_York:20221119T190000
DTSTAMP:20260424T024813
CREATED:20230201T003337Z
LAST-MODIFIED:20230201T003527Z
UID:10000010-1668877200-1668884400@www.bbhsmuseum.com
SUMMARY:Forty Years On Bellport Bay
DESCRIPTION:
URL:https://www.bbhsmuseum.com/event/forty-years-on-bellport-bay/
LOCATION:NY
END:VEVENT
BEGIN:VEVENT
DTSTART;TZID=America/New_York:20221105T170000
DTEND;TZID=America/New_York:20221105T190000
DTSTAMP:20260424T024813
CREATED:20230201T003121Z
LAST-MODIFIED:20230201T003121Z
UID:10000009-1667667600-1667674800@www.bbhsmuseum.com
SUMMARY:The Pelletreau Award
DESCRIPTION:
URL:https://www.bbhsmuseum.com/event/the-pelletreau-award/
LOCATION:NY
END:VEVENT
BEGIN:VEVENT
DTSTART;TZID=America/New_York:20221029T150000
DTEND;TZID=America/New_York:20221029T150000
DTSTAMP:20260424T024813
CREATED:20230201T003646Z
LAST-MODIFIED:20230201T005755Z
UID:10000012-1667055600-1667055600@www.bbhsmuseum.com
SUMMARY:Woodland Cemetery Walk
DESCRIPTION:
URL:https://www.bbhsmuseum.com/event/woodland-cemetery-walk/
LOCATION:NY
END:VEVENT
BEGIN:VEVENT
DTSTART;TZID=America/New_York:20221029T110000
DTEND;TZID=America/New_York:20221029T140000
DTSTAMP:20260424T024813
CREATED:20230201T004004Z
LAST-MODIFIED:20230205T214200Z
UID:10000011-1667041200-1667052000@www.bbhsmuseum.com
SUMMARY:Pumpkin Night
DESCRIPTION:
URL:https://www.bbhsmuseum.com/event/pumpkin-night/
LOCATION:NY
END:VEVENT
BEGIN:VEVENT
DTSTART;TZID=America/New_York:20221022T050000
DTEND;TZID=America/New_York:20221022T190000
DTSTAMP:20260424T024813
CREATED:20230201T010012Z
LAST-MODIFIED:20230201T010012Z
UID:10000013-1666414800-1666465200@www.bbhsmuseum.com
SUMMARY:My Year With the Italian Girl
DESCRIPTION:
URL:https://www.bbhsmuseum.com/event/my-year-with-the-italian-girl/
LOCATION:NY
END:VEVENT
BEGIN:VEVENT
DTSTART;TZID=America/New_York:20220904T110000
DTEND;TZID=America/New_York:20220904T160000
DTSTAMP:20260424T024813
CREATED:20230201T020455Z
LAST-MODIFIED:20230201T023321Z
UID:10000021-1662289200-1662307200@www.bbhsmuseum.com
SUMMARY:Celebrating Isabella - Exhibition
DESCRIPTION:
URL:https://www.bbhsmuseum.com/event/celebrating-isabella-exhibition/
LOCATION:NY
END:VEVENT
BEGIN:VEVENT
DTSTART;TZID=America/New_York:20220820T170000
DTEND;TZID=America/New_York:20220820T190000
DTSTAMP:20260424T024813
CREATED:20230201T010220Z
LAST-MODIFIED:20230201T010220Z
UID:10000014-1661014800-1661022000@www.bbhsmuseum.com
SUMMARY:Gender\, Rights\, Freedoms
DESCRIPTION:
URL:https://www.bbhsmuseum.com/event/gender-rights-freedoms/
LOCATION:NY
END:VEVENT
BEGIN:VEVENT
DTSTART;TZID=America/New_York:20220813T100000
DTEND;TZID=America/New_York:20220813T120000
DTSTAMP:20260424T024813
CREATED:20230201T011108Z
LAST-MODIFIED:20230201T011108Z
UID:10000017-1660384800-1660392000@www.bbhsmuseum.com
SUMMARY:Mystery Bike Tour
DESCRIPTION:
URL:https://www.bbhsmuseum.com/event/mystery-bike-tour/
LOCATION:NY
END:VEVENT
END:VCALENDAR