BEGIN:VCALENDAR
VERSION:2.0
PRODID:-//BELLPORT-BROOKHAVEN HISTORICAL MUSEUM - ECPv6.15.20//NONSGML v1.0//EN
CALSCALE:GREGORIAN
METHOD:PUBLISH
X-WR-CALNAME:BELLPORT-BROOKHAVEN HISTORICAL MUSEUM
X-ORIGINAL-URL:https://www.bbhsmuseum.com
X-WR-CALDESC:Events for BELLPORT-BROOKHAVEN HISTORICAL MUSEUM
REFRESH-INTERVAL;VALUE=DURATION:PT1H
X-Robots-Tag:noindex
X-PUBLISHED-TTL:PT1H
BEGIN:VTIMEZONE
TZID:America/New_York
BEGIN:DAYLIGHT
TZOFFSETFROM:-0500
TZOFFSETTO:-0400
TZNAME:EDT
DTSTART:20200308T070000
END:DAYLIGHT
BEGIN:STANDARD
TZOFFSETFROM:-0400
TZOFFSETTO:-0500
TZNAME:EST
DTSTART:20201101T060000
END:STANDARD
BEGIN:DAYLIGHT
TZOFFSETFROM:-0500
TZOFFSETTO:-0400
TZNAME:EDT
DTSTART:20210314T070000
END:DAYLIGHT
BEGIN:STANDARD
TZOFFSETFROM:-0400
TZOFFSETTO:-0500
TZNAME:EST
DTSTART:20211107T060000
END:STANDARD
BEGIN:DAYLIGHT
TZOFFSETFROM:-0500
TZOFFSETTO:-0400
TZNAME:EDT
DTSTART:20220313T070000
END:DAYLIGHT
BEGIN:STANDARD
TZOFFSETFROM:-0400
TZOFFSETTO:-0500
TZNAME:EST
DTSTART:20221106T060000
END:STANDARD
BEGIN:DAYLIGHT
TZOFFSETFROM:-0500
TZOFFSETTO:-0400
TZNAME:EDT
DTSTART:20230312T070000
END:DAYLIGHT
BEGIN:STANDARD
TZOFFSETFROM:-0400
TZOFFSETTO:-0500
TZNAME:EST
DTSTART:20231105T060000
END:STANDARD
END:VTIMEZONE
BEGIN:VEVENT
DTSTART;TZID=America/New_York:20221022T050000
DTEND;TZID=America/New_York:20221022T190000
DTSTAMP:20260425T124053
CREATED:20230201T010012Z
LAST-MODIFIED:20230201T010012Z
UID:10000013-1666414800-1666465200@www.bbhsmuseum.com
SUMMARY:My Year With the Italian Girl
DESCRIPTION:
URL:https://www.bbhsmuseum.com/event/my-year-with-the-italian-girl/
LOCATION:NY
END:VEVENT
BEGIN:VEVENT
DTSTART;TZID=America/New_York:20220904T110000
DTEND;TZID=America/New_York:20220904T160000
DTSTAMP:20260425T124053
CREATED:20230201T020455Z
LAST-MODIFIED:20230201T023321Z
UID:10000021-1662289200-1662307200@www.bbhsmuseum.com
SUMMARY:Celebrating Isabella - Exhibition
DESCRIPTION:
URL:https://www.bbhsmuseum.com/event/celebrating-isabella-exhibition/
LOCATION:NY
END:VEVENT
BEGIN:VEVENT
DTSTART;TZID=America/New_York:20220820T170000
DTEND;TZID=America/New_York:20220820T190000
DTSTAMP:20260425T124053
CREATED:20230201T010220Z
LAST-MODIFIED:20230201T010220Z
UID:10000014-1661014800-1661022000@www.bbhsmuseum.com
SUMMARY:Gender\, Rights\, Freedoms
DESCRIPTION:
URL:https://www.bbhsmuseum.com/event/gender-rights-freedoms/
LOCATION:NY
END:VEVENT
BEGIN:VEVENT
DTSTART;TZID=America/New_York:20220813T100000
DTEND;TZID=America/New_York:20220813T120000
DTSTAMP:20260425T124053
CREATED:20230201T011108Z
LAST-MODIFIED:20230201T011108Z
UID:10000017-1660384800-1660392000@www.bbhsmuseum.com
SUMMARY:Mystery Bike Tour
DESCRIPTION:
URL:https://www.bbhsmuseum.com/event/mystery-bike-tour/
LOCATION:NY
END:VEVENT
BEGIN:VEVENT
DTSTART;TZID=America/New_York:20220807T100000
DTEND;TZID=America/New_York:20220807T130000
DTSTAMP:20260425T124053
CREATED:20230201T021219Z
LAST-MODIFIED:20230201T021219Z
UID:10000024-1659866400-1659877200@www.bbhsmuseum.com
SUMMARY:Mama Farm
DESCRIPTION:
URL:https://www.bbhsmuseum.com/event/mama-farm/
LOCATION:NY
END:VEVENT
BEGIN:VEVENT
DTSTART;TZID=America/New_York:20220806T150000
DTEND;TZID=America/New_York:20220806T170000
DTSTAMP:20260425T124053
CREATED:20230201T010836Z
LAST-MODIFIED:20230201T010836Z
UID:10000016-1659798000-1659805200@www.bbhsmuseum.com
SUMMARY:Best In Show
DESCRIPTION:
URL:https://www.bbhsmuseum.com/event/best-in-show/
LOCATION:NY
END:VEVENT
BEGIN:VEVENT
DTSTART;TZID=America/New_York:20220805T170000
DTEND;TZID=America/New_York:20220805T190000
DTSTAMP:20260425T124053
CREATED:20230201T010701Z
LAST-MODIFIED:20230201T010701Z
UID:10000015-1659718800-1659726000@www.bbhsmuseum.com
SUMMARY:Celebrating Isabella-Fashion Photography
DESCRIPTION:
URL:https://www.bbhsmuseum.com/event/celebrating-isabella-fashion-photography/
LOCATION:NY
END:VEVENT
BEGIN:VEVENT
DTSTART;TZID=America/New_York:20220723T190000
DTEND;TZID=America/New_York:20220723T210000
DTSTAMP:20260425T124053
CREATED:20230201T011735Z
LAST-MODIFIED:20230201T011735Z
UID:10000018-1658602800-1658610000@www.bbhsmuseum.com
SUMMARY:Celebrating Isabella-Pasta Supper with Italian Wines
DESCRIPTION:
URL:https://www.bbhsmuseum.com/event/celebrating-isabella-pasta-supper-with-italian-wines/
LOCATION:NY
END:VEVENT
BEGIN:VEVENT
DTSTART;TZID=America/New_York:20220716T170000
DTEND;TZID=America/New_York:20220716T190000
DTSTAMP:20260425T124053
CREATED:20230201T012238Z
LAST-MODIFIED:20230201T012415Z
UID:10000020-1657990800-1657998000@www.bbhsmuseum.com
SUMMARY:Artists and Authors - Maira Kalman
DESCRIPTION:
URL:https://www.bbhsmuseum.com/event/artists-and-authors-maira-kalman/
LOCATION:NY
END:VEVENT
BEGIN:VEVENT
DTSTART;TZID=America/New_York:20220704T090000
DTEND;TZID=America/New_York:20220704T160000
DTSTAMP:20260425T124053
CREATED:20230201T011904Z
LAST-MODIFIED:20230201T012008Z
UID:10000019-1656925200-1656950400@www.bbhsmuseum.com
SUMMARY:Annual Antiques Show
DESCRIPTION:
URL:https://www.bbhsmuseum.com/event/annual-antiques-show/
LOCATION:NY
END:VEVENT
BEGIN:VEVENT
DTSTART;VALUE=DATE:20220625
DTEND;VALUE=DATE:20220626
DTSTAMP:20260425T124053
CREATED:20230201T020643Z
LAST-MODIFIED:20230201T020712Z
UID:10000022-1656115200-1656201599@www.bbhsmuseum.com
SUMMARY:Family Fun Day
DESCRIPTION:
URL:https://www.bbhsmuseum.com/event/family-fun-day/
LOCATION:NY
END:VEVENT
BEGIN:VEVENT
DTSTART;TZID=America/New_York:20220514T170000
DTEND;TZID=America/New_York:20220514T190000
DTSTAMP:20260425T124053
CREATED:20230201T021613Z
LAST-MODIFIED:20230201T021613Z
UID:10000025-1652547600-1652554800@www.bbhsmuseum.com
SUMMARY:Artists and Authors - Nancy Solomon
DESCRIPTION:
URL:https://www.bbhsmuseum.com/event/artists-and-authors-nancy-solomon/
LOCATION:NY
END:VEVENT
BEGIN:VEVENT
DTSTART;TZID=America/New_York:20220507T130000
DTEND;TZID=America/New_York:20220507T150000
DTSTAMP:20260425T124053
CREATED:20230201T021746Z
LAST-MODIFIED:20230201T021746Z
UID:10000026-1651928400-1651935600@www.bbhsmuseum.com
SUMMARY:Rosie The Truffle Hound
DESCRIPTION:
URL:https://www.bbhsmuseum.com/event/rosie-the-truffle-hound/
LOCATION:NY
END:VEVENT
BEGIN:VEVENT
DTSTART;TZID=America/New_York:20220430T170000
DTEND;TZID=America/New_York:20220430T190000
DTSTAMP:20260425T124053
CREATED:20230201T021924Z
LAST-MODIFIED:20230201T021924Z
UID:10000027-1651338000-1651345200@www.bbhsmuseum.com
SUMMARY:Arthur Danto
DESCRIPTION:
URL:https://www.bbhsmuseum.com/event/arthur-danto/
LOCATION:NY
END:VEVENT
BEGIN:VEVENT
DTSTART;TZID=America/New_York:20220305T170000
DTEND;TZID=America/New_York:20220305T190000
DTSTAMP:20260425T124053
CREATED:20230201T022117Z
LAST-MODIFIED:20230201T022117Z
UID:10000028-1646499600-1646506800@www.bbhsmuseum.com
SUMMARY:Victoria Newhouse - Parks of the 21st Century
DESCRIPTION:
URL:https://www.bbhsmuseum.com/event/victoria-newhouse-parks-of-the-21st-century/
LOCATION:NY
END:VEVENT
BEGIN:VEVENT
DTSTART;TZID=America/New_York:20220115T170000
DTEND;TZID=America/New_York:20220115T190000
DTSTAMP:20260425T124053
CREATED:20230201T022316Z
LAST-MODIFIED:20230201T022316Z
UID:10000029-1642266000-1642273200@www.bbhsmuseum.com
SUMMARY:Born in Brookhaven
DESCRIPTION:
URL:https://www.bbhsmuseum.com/event/born-in-brookhaven/
LOCATION:NY
END:VEVENT
BEGIN:VEVENT
DTSTART;TZID=America/New_York:20220101T140000
DTEND;TZID=America/New_York:20220101T160000
DTSTAMP:20260425T124053
CREATED:20230201T022445Z
LAST-MODIFIED:20230201T022445Z
UID:10000030-1641045600-1641052800@www.bbhsmuseum.com
SUMMARY:Post-Crowell House
DESCRIPTION:
URL:https://www.bbhsmuseum.com/event/post-crowell-house/
LOCATION:NY
END:VEVENT
BEGIN:VEVENT
DTSTART;TZID=America/New_York:20211113T170000
DTEND;TZID=America/New_York:20211113T190000
DTSTAMP:20260425T124053
CREATED:20230318T145039Z
LAST-MODIFIED:20230318T145039Z
UID:10000042-1636822800-1636830000@www.bbhsmuseum.com
SUMMARY:Victor Principe - Unhampton
DESCRIPTION:
URL:https://www.bbhsmuseum.com/event/victor-principe-unhampton/
LOCATION:The Brown Building\, 12 Bell Street\, Bellport\, NY\, 11713\, United States
END:VEVENT
BEGIN:VEVENT
DTSTART;TZID=America/New_York:20211029T110000
DTEND;TZID=America/New_York:20211029T140000
DTSTAMP:20260425T124053
CREATED:20230318T145414Z
LAST-MODIFIED:20230318T145414Z
UID:10000043-1635505200-1635516000@www.bbhsmuseum.com
SUMMARY:Pumpkin Blaze
DESCRIPTION:
URL:https://www.bbhsmuseum.com/event/pumpkin-blaze/
LOCATION:NY
END:VEVENT
BEGIN:VEVENT
DTSTART;TZID=America/New_York:20211009T170000
DTEND;TZID=America/New_York:20211009T190000
DTSTAMP:20260425T124053
CREATED:20230318T150210Z
LAST-MODIFIED:20230318T150210Z
UID:10000044-1633798800-1633806000@www.bbhsmuseum.com
SUMMARY:Fireplace Farms
DESCRIPTION:
URL:https://www.bbhsmuseum.com/event/fireplace-farms/
LOCATION:The Brown Building\, 12 Bell Street\, Bellport\, NY\, 11713\, United States
END:VEVENT
BEGIN:VEVENT
DTSTART;TZID=America/New_York:20210911T170000
DTEND;TZID=America/New_York:20210911T190000
DTSTAMP:20260425T124053
CREATED:20230318T150447Z
LAST-MODIFIED:20230318T150447Z
UID:10000045-1631379600-1631386800@www.bbhsmuseum.com
SUMMARY:Anna Goddard Potter - A Poetic Life
DESCRIPTION:
URL:https://www.bbhsmuseum.com/event/anna-goddard-potter-a-poetic-life/
LOCATION:The Brown Building\, 12 Bell Street\, Bellport\, NY\, 11713\, United States
END:VEVENT
BEGIN:VEVENT
DTSTART;TZID=America/New_York:20210814T100000
DTEND;TZID=America/New_York:20210814T120000
DTSTAMP:20260425T124053
CREATED:20230318T150708Z
LAST-MODIFIED:20230318T150708Z
UID:10000046-1628935200-1628942400@www.bbhsmuseum.com
SUMMARY:Bicycle Tour in Historic Brookhaven Hamlet
DESCRIPTION:
URL:https://www.bbhsmuseum.com/event/bicycle-tour-in-historic-brookhaven-hamlet/
LOCATION:NY
END:VEVENT
BEGIN:VEVENT
DTSTART;TZID=America/New_York:20210807T080000
DTEND;TZID=America/New_York:20210807T170000
DTSTAMP:20260425T124053
CREATED:20230318T150833Z
LAST-MODIFIED:20230318T150833Z
UID:10000047-1628323200-1628355600@www.bbhsmuseum.com
SUMMARY:Best In Show
DESCRIPTION:
URL:https://www.bbhsmuseum.com/event/best-in-show-2/
LOCATION:The Brown Building\, 12 Bell Street\, Bellport\, NY\, 11713\, United States
END:VEVENT
BEGIN:VEVENT
DTSTART;TZID=America/New_York:20210717T193000
DTEND;TZID=America/New_York:20210717T210000
DTSTAMP:20260425T124053
CREATED:20230318T151721Z
LAST-MODIFIED:20230318T151913Z
UID:10000048-1626550200-1626555600@www.bbhsmuseum.com
SUMMARY:Movie Night
DESCRIPTION:
URL:https://www.bbhsmuseum.com/event/movie-night/
LOCATION:NY
END:VEVENT
BEGIN:VEVENT
DTSTART;TZID=America/New_York:20210704T090000
DTEND;TZID=America/New_York:20210704T160000
DTSTAMP:20260425T124053
CREATED:20230323T001834Z
LAST-MODIFIED:20230323T002156Z
UID:10000049-1625389200-1625414400@www.bbhsmuseum.com
SUMMARY:Antique Show 2021
DESCRIPTION:
URL:https://www.bbhsmuseum.com/event/antique-show-2021/
LOCATION:NY
END:VEVENT
BEGIN:VEVENT
DTSTART;TZID=America/New_York:20210619T183000
DTEND;TZID=America/New_York:20210619T220000
DTSTAMP:20260425T124053
CREATED:20230323T003200Z
LAST-MODIFIED:20230323T005829Z
UID:10000053-1624127400-1624140000@www.bbhsmuseum.com
SUMMARY:Mid Summer Nights Dinner
DESCRIPTION:
URL:https://www.bbhsmuseum.com/event/mid-summer-nights-dinner/
LOCATION:NY
END:VEVENT
BEGIN:VEVENT
DTSTART;TZID=America/New_York:20210619T100000
DTEND;TZID=America/New_York:20210619T130000
DTSTAMP:20260425T124053
CREATED:20230323T002610Z
LAST-MODIFIED:20230323T002725Z
UID:10000052-1624096800-1624107600@www.bbhsmuseum.com
SUMMARY:Tag Sale 2021
DESCRIPTION:
URL:https://www.bbhsmuseum.com/event/tag-sale-2021/
LOCATION:NY
END:VEVENT
BEGIN:VEVENT
DTSTART;TZID=America/New_York:20210612T100000
DTEND;TZID=America/New_York:20210612T160000
DTSTAMP:20260425T124053
CREATED:20230323T002542Z
LAST-MODIFIED:20230323T002542Z
UID:10000051-1623492000-1623513600@www.bbhsmuseum.com
SUMMARY:Yard Sale 2021
DESCRIPTION:
URL:https://www.bbhsmuseum.com/event/yard-sale-2021/
LOCATION:NY
END:VEVENT
BEGIN:VEVENT
DTSTART;TZID=America/New_York:20210529T170000
DTEND;TZID=America/New_York:20210529T190000
DTSTAMP:20260425T124053
CREATED:20230323T002113Z
LAST-MODIFIED:20230323T002331Z
UID:10000050-1622307600-1622314800@www.bbhsmuseum.com
SUMMARY:A Summer Place - Tricia Foley
DESCRIPTION:
URL:https://www.bbhsmuseum.com/event/3540/
LOCATION:NY
END:VEVENT
END:VCALENDAR