BEGIN:VCALENDAR
VERSION:2.0
PRODID:-//BELLPORT-BROOKHAVEN HISTORICAL MUSEUM - ECPv6.15.20//NONSGML v1.0//EN
CALSCALE:GREGORIAN
METHOD:PUBLISH
X-WR-CALNAME:BELLPORT-BROOKHAVEN HISTORICAL MUSEUM
X-ORIGINAL-URL:https://www.bbhsmuseum.com
X-WR-CALDESC:Events for BELLPORT-BROOKHAVEN HISTORICAL MUSEUM
REFRESH-INTERVAL;VALUE=DURATION:PT1H
X-Robots-Tag:noindex
X-PUBLISHED-TTL:PT1H
BEGIN:VTIMEZONE
TZID:America/New_York
BEGIN:DAYLIGHT
TZOFFSETFROM:-0500
TZOFFSETTO:-0400
TZNAME:EDT
DTSTART:20240310T070000
END:DAYLIGHT
BEGIN:STANDARD
TZOFFSETFROM:-0400
TZOFFSETTO:-0500
TZNAME:EST
DTSTART:20241103T060000
END:STANDARD
BEGIN:DAYLIGHT
TZOFFSETFROM:-0500
TZOFFSETTO:-0400
TZNAME:EDT
DTSTART:20250309T070000
END:DAYLIGHT
BEGIN:STANDARD
TZOFFSETFROM:-0400
TZOFFSETTO:-0500
TZNAME:EST
DTSTART:20251102T060000
END:STANDARD
BEGIN:DAYLIGHT
TZOFFSETFROM:-0500
TZOFFSETTO:-0400
TZNAME:EDT
DTSTART:20260308T070000
END:DAYLIGHT
BEGIN:STANDARD
TZOFFSETFROM:-0400
TZOFFSETTO:-0500
TZNAME:EST
DTSTART:20261101T060000
END:STANDARD
BEGIN:DAYLIGHT
TZOFFSETFROM:-0500
TZOFFSETTO:-0400
TZNAME:EDT
DTSTART:20270314T070000
END:DAYLIGHT
BEGIN:STANDARD
TZOFFSETFROM:-0400
TZOFFSETTO:-0500
TZNAME:EST
DTSTART:20271107T060000
END:STANDARD
END:VTIMEZONE
BEGIN:VEVENT
DTSTART;TZID=America/New_York:20260502T170000
DTEND;TZID=America/New_York:20260502T190000
DTSTAMP:20260423T185508
CREATED:20260319T034658Z
LAST-MODIFIED:20260319T041748Z
UID:10000742-1777741200-1777748400@www.bbhsmuseum.com
SUMMARY:ARTISTS AND AUTHORS - JANET KRAYNAK
DESCRIPTION:General Admission  \n    \n        \n  \n  \n    \n    \n     Powered by \n  \n\n    \nMembers please click below.  \n    \n        \n  \n  \n    \n    \n     Powered by
URL:https://www.bbhsmuseum.com/event/artists-and-authors-janet-kraynak/
LOCATION:The Brown Building\, 12 Bell Street\, Bellport\, NY\, 11713\, United States
ATTACH;FMTTYPE=image/jpeg:https://www.bbhsmuseum.com/wp-content/uploads/2026/03/KraynakAd.jpeg
ORGANIZER;CN="Bellport Brookhaven Historical Society":MAILTO:bbhsmuseumrsvp@gmail.com
END:VEVENT
BEGIN:VEVENT
DTSTART;TZID=America/New_York:20260418T170000
DTEND;TZID=America/New_York:20260418T190000
DTSTAMP:20260423T185508
CREATED:20260319T033313Z
LAST-MODIFIED:20260421T000941Z
UID:10000741-1776531600-1776538800@www.bbhsmuseum.com
SUMMARY:COMMUNITY and CONGREGATION
DESCRIPTION:
URL:https://www.bbhsmuseum.com/event/community-and-congregation/
LOCATION:The Brown Building\, 12 Bell Street\, Bellport\, NY\, 11713\, United States
ATTACH;FMTTYPE=image/jpeg:https://www.bbhsmuseum.com/wp-content/uploads/2026/03/SparrowAd.jpeg
ORGANIZER;CN="Bellport Brookhaven Historical Society":MAILTO:bbhsmuseumrsvp@gmail.com
END:VEVENT
BEGIN:VEVENT
DTSTART;TZID=America/New_York:20260314T170000
DTEND;TZID=America/New_York:20260314T190000
DTSTAMP:20260423T185508
CREATED:20260204T000618Z
LAST-MODIFIED:20260205T023145Z
UID:10000739-1773507600-1773514800@www.bbhsmuseum.com
SUMMARY:Community and Congregations: Ten Churches
DESCRIPTION:From their inception\, churches have played a vital role in Bellport\, Brookhaven and the neighboring communities. Solace\, sanctuary and support\, these churches have celebrated the joyful and comforted the afflicted\, built communities\, provided hospitality and advocated for justice since the eighteenth century. \nThis exhibition\, Community and Congregation: Ten Churches\, is designed to explore the history of our churches and to convey the many and varied ways they have contributed to making our area what it is today. In addition to the Gallery exhibit\, which will feature timelines\, archival materials\, photographs and a variety of objects loaned by the churches themselves\, there will be accompanying programs exploring in greater depth the unique histories of several of our churches in serving their congregants as the population of wester Suffolk country grew and changed between the nineteenth and twenty-first centuries. \nThe Gallery Exhibition is expected to run during March 14-May 23. 2026. \nThe churches! \n\nChrist episcopal Church\nMary Immaculate Roman Catholic Church\nBellport United Methodist Church\nNew Bethel First Pentecostal Church\nSt. James Episcopal Church\nOld South Haven Presbyterian Church\nRuth African Methodist Episcopal Zion Church\nThe Journey Church\nSt. Joseph the WorkerRC Church\nInglesia Pentecostal Arbol Que Florence
URL:https://www.bbhsmuseum.com/event/community-and-congregations-ten-churches/
LOCATION:The Brown Building\, 12 Bell Street\, Bellport\, NY\, 11713\, United States
ATTACH;FMTTYPE=image/jpeg:https://www.bbhsmuseum.com/wp-content/uploads/2026/02/CommunityAd.jpeg
ORGANIZER;CN="Bellport Brookhaven Historical Society":MAILTO:bbhsmuseumrsvp@gmail.com
END:VEVENT
BEGIN:VEVENT
DTSTART;TZID=America/New_York:20260207T170000
DTEND;TZID=America/New_York:20260207T190000
DTSTAMP:20260423T185508
CREATED:20260121T012936Z
LAST-MODIFIED:20260307T165104Z
UID:10000738-1770483600-1770490800@www.bbhsmuseum.com
SUMMARY:Pelletreau Awards
DESCRIPTION:
URL:https://www.bbhsmuseum.com/event/pelletreau-awards/
LOCATION:The Brown Building\, 12 Bell Street\, Bellport\, NY\, 11713\, United States
ATTACH;FMTTYPE=image/jpeg:https://www.bbhsmuseum.com/wp-content/uploads/2026/01/Pelletreau.jpg
ORGANIZER;CN="Bellport Brookhaven Historical Society":MAILTO:bbhsmuseumrsvp@gmail.com
END:VEVENT
BEGIN:VEVENT
DTSTART;TZID=America/New_York:20260125T100000
DTEND;TZID=America/New_York:20260125T110000
DTSTAMP:20260423T185508
CREATED:20260114T011848Z
LAST-MODIFIED:20260114T011848Z
UID:10000736-1769335200-1769338800@www.bbhsmuseum.com
SUMMARY:Childrens Program - SOWING NEW LIFE IN THE NEW YEAR
DESCRIPTION:Workshop on seed planting \nClick here to rsvp.
URL:https://www.bbhsmuseum.com/event/childrens-program-sowing-new-life-in-the-new-year/
LOCATION:The Brown Building\, 12 Bell Street\, Bellport\, NY\, 11713\, United States
CATEGORIES:Children's Program
ORGANIZER;CN="Bellport Brookhaven Historical Society":MAILTO:bbhsmuseumrsvp@gmail.com
END:VEVENT
BEGIN:VEVENT
DTSTART;TZID=America/New_York:20260117T170000
DTEND;TZID=America/New_York:20260117T190000
DTSTAMP:20260423T185508
CREATED:20251218T201243Z
LAST-MODIFIED:20260119T223415Z
UID:10000735-1768669200-1768676400@www.bbhsmuseum.com
SUMMARY:Artists & Authors - Historic Schoolhouses of Long Island
DESCRIPTION:
URL:https://www.bbhsmuseum.com/event/artists-authors-historic-schoolhouses-of-long-island/
LOCATION:The Pokorny Room\, 12 Bell Street\, Bellport\, NY\, 11713\, United States
ATTACH;FMTTYPE=image/png:https://www.bbhsmuseum.com/wp-content/uploads/2025/12/HistoricSchoolhouses-web.png
ORGANIZER;CN="Bellport Brookhaven Historical Society":MAILTO:bbhsmuseumrsvp@gmail.com
END:VEVENT
BEGIN:VEVENT
DTSTART;TZID=America/New_York:20251129T170000
DTEND;TZID=America/New_York:20251129T190000
DTSTAMP:20260423T185508
CREATED:20251104T025502Z
LAST-MODIFIED:20251201T012353Z
UID:10000733-1764435600-1764442800@www.bbhsmuseum.com
SUMMARY:BBHS Presents - Wampum
DESCRIPTION:
URL:https://www.bbhsmuseum.com/event/bbhs-presents-wampum/
LOCATION:The Brown Building\, 12 Bell Street\, Bellport\, NY\, 11713\, United States
ATTACH;FMTTYPE=image/jpeg:https://www.bbhsmuseum.com/wp-content/uploads/2025/11/WampumWEB.jpg
ORGANIZER;CN="Bellport Brookhaven Historical Society":MAILTO:bbhsmuseumrsvp@gmail.com
END:VEVENT
BEGIN:VEVENT
DTSTART;TZID=America/New_York:20251115T170000
DTEND;TZID=America/New_York:20251115T190000
DTSTAMP:20260423T185508
CREATED:20251113T142233Z
LAST-MODIFIED:20251113T142233Z
UID:10000734-1763226000-1763233200@www.bbhsmuseum.com
SUMMARY:BBHS 2025 Annual Meeting
DESCRIPTION:2025 BBHS Proxy
URL:https://www.bbhsmuseum.com/event/bbhs-2025-annual-meeting/
LOCATION:The Brown Building\, 12 Bell Street\, Bellport\, NY\, 11713\, United States
ATTACH;FMTTYPE=image/jpeg:https://www.bbhsmuseum.com/wp-content/uploads/2025/11/BBHSAnnualMeeting-web.jpg
ORGANIZER;CN="Bellport Brookhaven Historical Society":MAILTO:bbhsmuseumrsvp@gmail.com
END:VEVENT
BEGIN:VEVENT
DTSTART;TZID=America/New_York:20251115T110000
DTEND;TZID=America/New_York:20251115T130000
DTSTAMP:20260423T185508
CREATED:20250929T233842Z
LAST-MODIFIED:20250929T233842Z
UID:10000730-1763204400-1763211600@www.bbhsmuseum.com
SUMMARY:THANKSGIVING FOOD DRIVE
DESCRIPTION:
URL:https://www.bbhsmuseum.com/event/thanksgiving-food-drive/
LOCATION:Post-Crowell House\, 31 Bellport Lane\, Bellport\, New York\, 11713
ATTACH;FMTTYPE=image/jpeg:https://www.bbhsmuseum.com/wp-content/uploads/2025/09/Food-Drive2.jpeg
ORGANIZER;CN="Bellport Brookhaven Historical Society":MAILTO:bbhsmuseumrsvp@gmail.com
END:VEVENT
BEGIN:VEVENT
DTSTART;TZID=America/New_York:20251115T100000
DTEND;TZID=America/New_York:20251115T110000
DTSTAMP:20260423T185508
CREATED:20250929T234215Z
LAST-MODIFIED:20250929T234222Z
UID:10000731-1763200800-1763204400@www.bbhsmuseum.com
SUMMARY:Children's Program - CARDBOARD LOOM WEAVING
DESCRIPTION:Registration required: \nEmail: childrensprogramdirector@bhsmuseum.com
URL:https://www.bbhsmuseum.com/event/childrens-program-cardboard-loom-weaving/
LOCATION:The Brown Building\, 12 Bell Street\, Bellport\, NY\, 11713\, United States
CATEGORIES:Children's Program
ATTACH;FMTTYPE=image/jpeg:https://www.bbhsmuseum.com/wp-content/uploads/2025/09/CardboardWeavingNov.jpeg
ORGANIZER;CN="Bellport Brookhaven Historical Society":MAILTO:bbhsmuseumrsvp@gmail.com
END:VEVENT
BEGIN:VEVENT
DTSTART;TZID=America/New_York:20251109T140000
DTEND;TZID=America/New_York:20251109T160000
DTSTAMP:20260423T185508
CREATED:20251009T164010Z
LAST-MODIFIED:20251111T004154Z
UID:10000732-1762696800-1762704000@www.bbhsmuseum.com
SUMMARY:BBHS Presents - From Sheep to Sweater
DESCRIPTION:
URL:https://www.bbhsmuseum.com/event/bbhs-presents-from-sheep-to-sweater/
LOCATION:The Brown Building\, 12 Bell Street\, Bellport\, NY\, 11713\, United States
ATTACH;FMTTYPE=image/jpeg:https://www.bbhsmuseum.com/wp-content/uploads/2025/10/SheepSweaterRev.jpeg
ORGANIZER;CN="Bellport Brookhaven Historical Society":MAILTO:bbhsmuseumrsvp@gmail.com
END:VEVENT
BEGIN:VEVENT
DTSTART;TZID=America/New_York:20251025T090000
DTEND;TZID=America/New_York:20251025T110000
DTSTAMP:20260423T185508
CREATED:20250929T233528Z
LAST-MODIFIED:20250929T233600Z
UID:10000729-1761382800-1761390000@www.bbhsmuseum.com
SUMMARY:THE PUMPKINS ARE COMING!
DESCRIPTION:
URL:https://www.bbhsmuseum.com/event/the-pumpkins-are-coming/
LOCATION:Post-Crowell House\, 31 Bellport Lane\, Bellport\, New York\, 11713
ATTACH;FMTTYPE=image/jpeg:https://www.bbhsmuseum.com/wp-content/uploads/2025/09/PumpkinCarvingFinal.jpeg
ORGANIZER;CN="Bellport Brookhaven Historical Society":MAILTO:bbhsmuseumrsvp@gmail.com
END:VEVENT
BEGIN:VEVENT
DTSTART;TZID=America/New_York:20250927T170000
DTEND;TZID=America/New_York:20250927T190000
DTSTAMP:20260423T185508
CREATED:20250909T041000Z
LAST-MODIFIED:20250909T041025Z
UID:10000728-1758992400-1758999600@www.bbhsmuseum.com
SUMMARY:Stitched - TEXTILES PAST and PRESENT
DESCRIPTION:
URL:https://www.bbhsmuseum.com/event/stitched-textiles-past-and-present/
LOCATION:The Brown Building\, 12 Bell Street\, Bellport\, NY\, 11713\, United States
ATTACH;FMTTYPE=image/jpeg:https://www.bbhsmuseum.com/wp-content/uploads/2025/09/Stitched_ad.jpg
ORGANIZER;CN="Bellport Brookhaven Historical Society":MAILTO:bbhsmuseumrsvp@gmail.com
END:VEVENT
BEGIN:VEVENT
DTSTART;TZID=America/New_York:20250920T170000
DTEND;TZID=America/New_York:20250920T190000
DTSTAMP:20260423T185508
CREATED:20250830T154039Z
LAST-MODIFIED:20251102T174501Z
UID:10000727-1758387600-1758394800@www.bbhsmuseum.com
SUMMARY:ARTISTS AND AUTHORS Presents - CLAUDIA LEBENTHAL SURFER STORIES
DESCRIPTION:
URL:https://www.bbhsmuseum.com/event/artists-and-authors-presents-claudia-lebenthal-surfer-stories/
LOCATION:The Brown Building\, 12 Bell Street\, Bellport\, NY\, 11713\, United States
ATTACH;FMTTYPE=image/jpeg:https://www.bbhsmuseum.com/wp-content/uploads/2025/08/SurferStoriesAd.jpeg
ORGANIZER;CN="Bellport Brookhaven Historical Society":MAILTO:bbhsmuseumrsvp@gmail.com
END:VEVENT
BEGIN:VEVENT
DTSTART;TZID=America/New_York:20250823T170000
DTEND;TZID=America/New_York:20250823T190000
DTSTAMP:20260423T185508
CREATED:20250806T000452Z
LAST-MODIFIED:20250825T195242Z
UID:10000726-1755968400-1755975600@www.bbhsmuseum.com
SUMMARY:MY TURN NEXT
DESCRIPTION:
URL:https://www.bbhsmuseum.com/event/my-turn-next/
LOCATION:The Brown Building\, 12 Bell Street\, Bellport\, NY\, 11713\, United States
ATTACH;FMTTYPE=image/jpeg:https://www.bbhsmuseum.com/wp-content/uploads/2025/08/MyTurnNextAd-web.jpg
ORGANIZER;CN="Bellport Brookhaven Historical Society":MAILTO:bbhsmuseumrsvp@gmail.com
END:VEVENT
BEGIN:VEVENT
DTSTART;TZID=America/New_York:20250816T170000
DTEND;TZID=America/New_York:20250816T190000
DTSTAMP:20260423T185508
CREATED:20250620T030545Z
LAST-MODIFIED:20250817T152704Z
UID:10000723-1755363600-1755370800@www.bbhsmuseum.com
SUMMARY:ARTISTS AND AUTHORS - Elizabeth Roberts Architects Collected Stories
DESCRIPTION:
URL:https://www.bbhsmuseum.com/event/artists-and-authors-elizabeth-roberts-architects-collected-stories/
LOCATION:The Pokorny Room\, 12 Bell Street\, Bellport\, NY\, 11713\, United States
ATTACH;FMTTYPE=image/jpeg:https://www.bbhsmuseum.com/wp-content/uploads/2025/08/ElizabethRobertsArchitectsREV-web.jpg
ORGANIZER;CN="Bellport Brookhaven Historical Society":MAILTO:bbhsmuseumrsvp@gmail.com
END:VEVENT
BEGIN:VEVENT
DTSTART;TZID=America/New_York:20250802T183000
DTEND;TZID=America/New_York:20250802T210000
DTSTAMP:20260423T185508
CREATED:20250709T030033Z
LAST-MODIFIED:20250802T152329Z
UID:10000725-1754159400-1754168400@www.bbhsmuseum.com
SUMMARY:A Season with Isabella Rossellini A FILM BY MARIAN LACOMBE
DESCRIPTION:
URL:https://www.bbhsmuseum.com/event/a-season-with-isabella-rossellini-a-film-by-marian-lacombe/
LOCATION:The Brown Building\, 12 Bell Street\, Bellport\, NY\, 11713\, United States
ATTACH;FMTTYPE=image/jpeg:https://www.bbhsmuseum.com/wp-content/uploads/2025/08/SeasonIsabellaSheepRSVP2web-SO.jpg
ORGANIZER;CN="Bellport Brookhaven Historical Society":MAILTO:bbhsmuseumrsvp@gmail.com
END:VEVENT
BEGIN:VEVENT
DTSTART;TZID=America/New_York:20250726T170000
DTEND;TZID=America/New_York:20250726T190000
DTSTAMP:20260423T185508
CREATED:20250620T031531Z
LAST-MODIFIED:20250728T234312Z
UID:10000724-1753549200-1753556400@www.bbhsmuseum.com
SUMMARY:Walter Granville-Smith Lecture
DESCRIPTION:
URL:https://www.bbhsmuseum.com/event/walter-granville-smith-lecture/
LOCATION:The Brown Building\, 12 Bell Street\, Bellport\, NY\, 11713\, United States
ATTACH;FMTTYPE=image/jpeg:https://www.bbhsmuseum.com/wp-content/uploads/2025/06/WGS_lecture.jpeg
ORGANIZER;CN="Bellport Brookhaven Historical Society":MAILTO:bbhsmuseumrsvp@gmail.com
END:VEVENT
BEGIN:VEVENT
DTSTART;TZID=America/New_York:20250719T160000
DTEND;TZID=America/New_York:20250719T180000
DTSTAMP:20260423T185508
CREATED:20250501T234458Z
LAST-MODIFIED:20250721T221316Z
UID:10000721-1752940800-1752948000@www.bbhsmuseum.com
SUMMARY:Garden Party
DESCRIPTION:
URL:https://www.bbhsmuseum.com/event/garden-party/
LOCATION:The Home of Tom Cashin & Jay Johnson\, United States
ATTACH;FMTTYPE=image/jpeg:https://www.bbhsmuseum.com/wp-content/uploads/2025/05/GardenPartyREV5_7-19.jpg
ORGANIZER;CN="Bellport Brookhaven Historical Society":MAILTO:bbhsmuseumrsvp@gmail.com
END:VEVENT
BEGIN:VEVENT
DTSTART;TZID=America/New_York:20250628T170000
DTEND;TZID=America/New_York:20250628T190000
DTSTAMP:20260423T185508
CREATED:20250501T233001Z
LAST-MODIFIED:20250629T121938Z
UID:10000720-1751130000-1751137200@www.bbhsmuseum.com
SUMMARY:ARTISTS AND AUTHORS featuring JUSTIN EVANS
DESCRIPTION:
URL:https://www.bbhsmuseum.com/event/artists-and-authors-featuring-justin-evans/
LOCATION:The Pokorny Room\, 12 Bell Street\, Bellport\, NY\, 11713\, United States
ATTACH;FMTTYPE=image/jpeg:https://www.bbhsmuseum.com/wp-content/uploads/2025/06/LittleDataREV-1.jpeg
ORGANIZER;CN="Bellport Brookhaven Historical Society":MAILTO:bbhsmuseumrsvp@gmail.com
END:VEVENT
BEGIN:VEVENT
DTSTART;TZID=America/New_York:20250622T100000
DTEND;TZID=America/New_York:20250622T110000
DTSTAMP:20260423T185508
CREATED:20250616T221616Z
LAST-MODIFIED:20250616T221857Z
UID:10000722-1750586400-1750590000@www.bbhsmuseum.com
SUMMARY:Children's Program - Sailor Knot Tying
DESCRIPTION:click here to rsvp.
URL:https://www.bbhsmuseum.com/event/childrens-program-sailor-knot-tying/
LOCATION:The Brown Building\, 12 Bell Street\, Bellport\, NY\, 11713\, United States
ATTACH;FMTTYPE=image/png:https://www.bbhsmuseum.com/wp-content/uploads/2025/06/2aa47412-ecbb-0652-5c78-8abda5a2b37a.png
ORGANIZER;CN="Bellport Brookhaven Historical Society":MAILTO:bbhsmuseumrsvp@gmail.com
END:VEVENT
BEGIN:VEVENT
DTSTART;TZID=America/New_York:20250607T180000
DTEND;TZID=America/New_York:20250607T210000
DTSTAMP:20260423T185508
CREATED:20250430T223827Z
LAST-MODIFIED:20250608T180609Z
UID:10000718-1749319200-1749330000@www.bbhsmuseum.com
SUMMARY:Annual Benefit Gala
DESCRIPTION:
URL:https://www.bbhsmuseum.com/event/annual-benefit-gala/
LOCATION:BBHS Museum\, 31 Bellport Lane\, Bellport\, NY\, 11713\, United States
ATTACH;FMTTYPE=image/jpeg:https://www.bbhsmuseum.com/wp-content/uploads/2025/05/WGSEmail.jpeg
ORGANIZER;CN="Bellport Brookhaven Historical Society":MAILTO:bbhsmuseumrsvp@gmail.com
END:VEVENT
BEGIN:VEVENT
DTSTART;TZID=America/New_York:20250524T140000
DTEND;TZID=America/New_York:20250524T170000
DTSTAMP:20260423T185508
CREATED:20250128T003056Z
LAST-MODIFIED:20250512T172817Z
UID:10000705-1748095200-1748106000@www.bbhsmuseum.com
SUMMARY:Bellport Modern
DESCRIPTION:
URL:https://www.bbhsmuseum.com/event/bellport-modern/
LOCATION:BBHS Museum\, 31 Bellport Lane\, Bellport\, NY\, 11713\, United States
ATTACH;FMTTYPE=image/jpeg:https://www.bbhsmuseum.com/wp-content/uploads/2025/04/Bellport-Modern-SO.jpg
ORGANIZER;CN="Bellport Brookhaven Historical Society":MAILTO:bbhsmuseumrsvp@gmail.com
END:VEVENT
BEGIN:VEVENT
DTSTART;TZID=America/New_York:20250518T140000
DTEND;TZID=America/New_York:20250518T160000
DTSTAMP:20260423T185508
CREATED:20250501T212118Z
LAST-MODIFIED:20250519T160018Z
UID:10000719-1747576800-1747584000@www.bbhsmuseum.com
SUMMARY:Jeff Davis to celebrate Bellport's Captain Isaac
DESCRIPTION:
URL:https://www.bbhsmuseum.com/event/jeff-davis-to-celebrate-bellports-captain-isaac/
LOCATION:The Brown Building\, 12 Bell Street\, Bellport\, NY\, 11713\, United States
ATTACH;FMTTYPE=image/jpeg:https://www.bbhsmuseum.com/wp-content/uploads/2025/05/HomanDavisConcert.jpg
ORGANIZER;CN="Bellport Brookhaven Historical Society":MAILTO:bbhsmuseumrsvp@gmail.com
END:VEVENT
BEGIN:VEVENT
DTSTART;TZID=America/New_York:20250510T170000
DTEND;TZID=America/New_York:20250510T190000
DTSTAMP:20260423T185508
CREATED:20250422T235945Z
LAST-MODIFIED:20250511T202621Z
UID:10000717-1746896400-1746903600@www.bbhsmuseum.com
SUMMARY:Artists & Authors - The LOVES of THEODORE ROOSEVELT
DESCRIPTION:
URL:https://www.bbhsmuseum.com/event/artists-authors-the-loves-of-theodore-roosevelt/
LOCATION:The Brown Building\, 12 Bell Street\, Bellport\, NY\, 11713\, United States
ATTACH;FMTTYPE=image/jpeg:https://www.bbhsmuseum.com/wp-content/uploads/2025/04/BBHS-Roosevelt-web.jpg
ORGANIZER;CN="Bellport Brookhaven Historical Society":MAILTO:bbhsmuseumrsvp@gmail.com
END:VEVENT
BEGIN:VEVENT
DTSTART;TZID=America/New_York:20250426T170000
DTEND;TZID=America/New_York:20250426T190000
DTSTAMP:20260423T185508
CREATED:20250410T015039Z
LAST-MODIFIED:20250428T050116Z
UID:10000716-1745686800-1745694000@www.bbhsmuseum.com
SUMMARY:Poetry Read Featuring Harvey Waldman
DESCRIPTION:
URL:https://www.bbhsmuseum.com/event/poetry-read-featuring-harvey-waldman/
LOCATION:The Brown Building\, 12 Bell Street\, Bellport\, NY\, 11713\, United States
ATTACH;FMTTYPE=image/jpeg:https://www.bbhsmuseum.com/wp-content/uploads/2025/04/HarveyWaldman2A.jpg
ORGANIZER;CN="Bellport Brookhaven Historical Society":MAILTO:bbhsmuseumrsvp@gmail.com
END:VEVENT
BEGIN:VEVENT
DTSTART;TZID=America/New_York:20250419T170000
DTEND;TZID=America/New_York:20250419T190000
DTSTAMP:20260423T185508
CREATED:20250128T003912Z
LAST-MODIFIED:20250410T012512Z
UID:10000714-1745082000-1745089200@www.bbhsmuseum.com
SUMMARY:BBHS Presents - ARTISTS & OBJECTS
DESCRIPTION:
URL:https://www.bbhsmuseum.com/event/bbhs-presents-artists-objects/
LOCATION:The Gallery\, 12 Bell Street\, Bellport\, NY\, 11713\, United States
ATTACH;FMTTYPE=image/jpeg:https://www.bbhsmuseum.com/wp-content/uploads/2025/04/ArtistsObjects_Instagram2.jpg
ORGANIZER;CN="Bellport Brookhaven Historical Society":MAILTO:bbhsmuseumrsvp@gmail.com
END:VEVENT
BEGIN:VEVENT
DTSTART;TZID=America/New_York:20250322T170000
DTEND;TZID=America/New_York:20250322T190000
DTSTAMP:20260423T185508
CREATED:20250310T145944Z
LAST-MODIFIED:20250310T150015Z
UID:10000715-1742662800-1742670000@www.bbhsmuseum.com
SUMMARY:BBHS Presents - FUTURE NOSTALGIA an intimate dialogue
DESCRIPTION:
URL:https://www.bbhsmuseum.com/event/bbhs-presents-future-nostalgia-an-intimate-dialogue/
LOCATION:The Brown Building\, 12 Bell Street\, Bellport\, NY\, 11713\, United States
ATTACH;FMTTYPE=image/jpeg:https://www.bbhsmuseum.com/wp-content/uploads/2025/03/Future-nostalgia-INVITE-panel-discussion-web.jpg
ORGANIZER;CN="Bellport Brookhaven Historical Society":MAILTO:bbhsmuseumrsvp@gmail.com
END:VEVENT
BEGIN:VEVENT
DTSTART;TZID=America/New_York:20250315T170000
DTEND;TZID=America/New_York:20250315T190000
DTSTAMP:20260423T185508
CREATED:20250205T003140Z
LAST-MODIFIED:20250310T134939Z
UID:10000713-1742058000-1742065200@www.bbhsmuseum.com
SUMMARY:BBHS Presents - Future Nostalgia
DESCRIPTION:
URL:https://www.bbhsmuseum.com/event/bbhs-presents-future-nostalgia/
LOCATION:The Brown Building\, 12 Bell Street\, Bellport\, NY\, 11713\, United States
ATTACH;FMTTYPE=image/jpeg:https://www.bbhsmuseum.com/wp-content/uploads/2025/03/Future-nostalgia-web.jpg
ORGANIZER;CN="Bellport Brookhaven Historical Society":MAILTO:bbhsmuseumrsvp@gmail.com
END:VEVENT
BEGIN:VEVENT
DTSTART;TZID=America/New_York:20250215T170000
DTEND;TZID=America/New_York:20250215T190000
DTSTAMP:20260423T185508
CREATED:20250123T004952Z
LAST-MODIFIED:20250217T165717Z
UID:10000704-1739638800-1739646000@www.bbhsmuseum.com
SUMMARY:RACE OR REASON: A BELLPORT DILEMMA
DESCRIPTION:
URL:https://www.bbhsmuseum.com/event/race-or-reason-a-bellport-dilemma/
LOCATION:The Brown Building\, 12 Bell Street\, Bellport\, NY\, 11713\, United States
ATTACH;FMTTYPE=image/png:https://www.bbhsmuseum.com/wp-content/uploads/2025/01/RaceOrReasonInvite-AM_2.png
ORGANIZER;CN="Bellport Brookhaven Historical Society":MAILTO:bbhsmuseumrsvp@gmail.com
END:VEVENT
END:VCALENDAR