BEGIN:VCALENDAR
VERSION:2.0
PRODID:-//BELLPORT-BROOKHAVEN HISTORICAL MUSEUM - ECPv6.15.20//NONSGML v1.0//EN
CALSCALE:GREGORIAN
METHOD:PUBLISH
X-ORIGINAL-URL:https://www.bbhsmuseum.com
X-WR-CALDESC:Events for BELLPORT-BROOKHAVEN HISTORICAL MUSEUM
REFRESH-INTERVAL;VALUE=DURATION:PT1H
X-Robots-Tag:noindex
X-PUBLISHED-TTL:PT1H
BEGIN:VTIMEZONE
TZID:America/New_York
BEGIN:DAYLIGHT
TZOFFSETFROM:-0500
TZOFFSETTO:-0400
TZNAME:EDT
DTSTART:20230312T070000
END:DAYLIGHT
BEGIN:STANDARD
TZOFFSETFROM:-0400
TZOFFSETTO:-0500
TZNAME:EST
DTSTART:20231105T060000
END:STANDARD
BEGIN:DAYLIGHT
TZOFFSETFROM:-0500
TZOFFSETTO:-0400
TZNAME:EDT
DTSTART:20240310T070000
END:DAYLIGHT
BEGIN:STANDARD
TZOFFSETFROM:-0400
TZOFFSETTO:-0500
TZNAME:EST
DTSTART:20241103T060000
END:STANDARD
BEGIN:DAYLIGHT
TZOFFSETFROM:-0500
TZOFFSETTO:-0400
TZNAME:EDT
DTSTART:20250309T070000
END:DAYLIGHT
BEGIN:STANDARD
TZOFFSETFROM:-0400
TZOFFSETTO:-0500
TZNAME:EST
DTSTART:20251102T060000
END:STANDARD
END:VTIMEZONE
BEGIN:VEVENT
DTSTART;TZID=America/New_York:20240608T170000
DTEND;TZID=America/New_York:20240608T190000
DTSTAMP:20260425T084849
CREATED:20240604T011842Z
LAST-MODIFIED:20240616T212526Z
UID:10000099-1717866000-1717873200@www.bbhsmuseum.com
SUMMARY:The Lab People
DESCRIPTION:
URL:https://www.bbhsmuseum.com/event/the-lab-people/
LOCATION:The Brown Building\, 12 Bell Street\, Bellport\, NY\, 11713\, United States
ATTACH;FMTTYPE=image/jpeg:https://www.bbhsmuseum.com/wp-content/uploads/2024/06/BBHS_2024-announcemtns-_Varsalona-Lab-ppl-1_Page_2-scaled.jpg
ORGANIZER;CN="Bellport Brookhaven Historical Society":MAILTO:bbhsmuseumrsvp@gmail.com
END:VEVENT
END:VCALENDAR